BEGIN:VCALENDAR
VERSION:2.0
PRODID:-//NAMA - Nuovo Anfiteatro Martesana - ECPv6.15.12.2//NONSGML v1.0//EN
CALSCALE:GREGORIAN
METHOD:PUBLISH
X-ORIGINAL-URL:https://nuovoanfiteatromartesana.org
X-WR-CALDESC:Eventi per NAMA - Nuovo Anfiteatro Martesana
REFRESH-INTERVAL;VALUE=DURATION:PT1H
X-Robots-Tag:noindex
X-PUBLISHED-TTL:PT1H
BEGIN:VTIMEZONE
TZID:UTC
BEGIN:STANDARD
TZOFFSETFROM:+0000
TZOFFSETTO:+0000
TZNAME:UTC
DTSTART:20240101T000000
END:STANDARD
END:VTIMEZONE
BEGIN:VEVENT
DTSTART;VALUE=DATE:20250613
DTEND;VALUE=DATE:20250614
DTSTAMP:20260420T161918
CREATED:20250609T125227Z
LAST-MODIFIED:20250609T211845Z
UID:7278-1749772800-1749859199@nuovoanfiteatromartesana.org
SUMMARY:PROGRAMMA NAMA SUMMER ARENA - 13 giugno
DESCRIPTION:NAMA SUMMER ARENA\nDay by Day\nUn mese intero di attività all’aperto nel Parco della Martesana. La NAMA Summer Arena è un’arena estiva gratuita e popolare con una programmazione fitta di eventi gratuiti\, senza biglietti né barriere\, pensata per rendere la cultura un bene comune e accessibile a tutti: oltre 100 appuntamenti tra concerti\, teatro\, cinema all’aperto\, talk\, laboratori\, incontri e momenti di convivialità\, con il coinvolgimento di artisti\, realtà culturali indipendenti e associazioni del territorio. \nConsulta la timetable completa – dal 13 giugno al 13 luglio\nVenerdì 13 giugno\nOPEN AIR * FREE:\nTutte le attività open air sono gratuite\, salvo dove indicato il tesseramento; in caso di pioggia gli eventi open air potranno essere spostati negli spazi interni con ingresso riservato ai soci NAMA. \n17.00-19.30\nPARCO DELLA MARTESANA\nINAUGURAZIONE INSTALLAZIONE ARTISTICA A CURA DI ART IS YOUNG\nArt is Young curerà l’installazione artistica fissa che accompagnerà la NAMA Summer Arena durante i 31 giorni di eventi\, attività e performance. L’installazione è composta da una struttura tridimensionale\, che prenderà forma grazie agli stimoli esterni e all’intervento creativo degli artisti. \n18.00-19.30\nPARCO DELLA MARTESANA\nOPENING SPEECH\nDiscorso di apertura della NAMA Summer Arena nel Parco della Martesana. Intervengono: TEAM NAMA\, l’assessora al Verde e all’Ambiente Elena Grandi\, il Presidente di Municipio 2 Simone Locatelli\, l’assessora alla Cultura del Municipio 2 Arianna Curti e Veronica Merotta di Fondazione di Comunità Milano. \n19.30-24.00\nPARCO DELLA MARTESANA\nBOTELLON PRESENTA NAMA SUMMER ARENA OPENING PARTY\nBotellon Milano\, il festival culturale urbano che raccoglie il crescente bisogno di spazi di aggregazione e di cultura accessibili a tutti e tutte\, sbarca nel Parco della Martesana inaugurando la NAMA Summer Arena con: percussion live set con Martino Mora; live music con Todo Bardo Band; DJ set a cura di MiGarden. \nINSIDE * SOCI NAMA:\nPre-tesseramento sempre obbligatorio 24h prima dell’evento \n15.00-21.30\nNAMA – NUOVO ANFITEATRO MARTESANA\nMIGA MARKET E OPEN DAY NAMA\nMIGA MARKET è il market indipendente con una selezione di designer\, artigiani\, stilisti selezionati da MiGarden.\nNAMA – Nuovo Anfiteatro Martesana apre le sue porte\, rendendo visitabili i propri spazi: le officine\, lo studio di registrazione\, le sale eventi e il cortile interno. \nIngresso gratuito \n23.00-till late\nNAMA – NUOVO ANFITEATRO MARTESANA\nNSA AFTER PARTY BY MIGARDEN\, HUTTE\, BOTELLON\nL’After Party di MiGarden inaugura la stagione serale della NAMA Summer Arena con una line-up internazionale. Per l’occasione\, saranno invitati anche gli artisti di Hütte\, festival europeo che promuove connessioni artistiche e umane nella natura. \nIngresso con contributo di 5€ fino all’01.00\, a seguire 10€. \nSempre attivi:\nTutti i giorni:\nART EXHIBITION A CURA DI ART IS YOUNG \nBAR & FOOD OPEN AIR \nINFO POINT CHILL AREA & PARK \nTutti i sabati:\n14.00-19.00 ATTREZZERIA POP a cura di ConservaMi \nTutte le domeniche:\n16.00-19.00 CICLOFFICINA POP a cura di Ciclofficina Pontegiallo \nOrari NAMA OPEN AIR:\nlunedì 17.00 – 23.00\nmartedì 17.00 – 23.00\nmercoledì 17.00 – 23.00\ngiovedì 17.00 – 23.00\nvenerdì 17.00 – 24.00\nsabato 14.00 – 24.00\ndomenica 14.00 – 23.00 \n  \nPer informazioni: info@nuovoanfiteatromartesana.org \nDIVENTA SOCIO NAMA
URL:https://nuovoanfiteatromartesana.org/event/programma-nama-summer-arena-13-giugno/
LOCATION:[OPEN AIR] NAMA – Nuovo Anfiteatro Martesana\, Parco della Martesana\, Milano\, 20127
CATEGORIES:NAMA SUMMER ARENA
ATTACH;FMTTYPE=image/png:https://nuovoanfiteatromartesana.org/wp-content/uploads/2025/06/4.png
END:VEVENT
END:VCALENDAR