BEGIN:VCALENDAR
VERSION:2.0
PRODID:-//NAMA - Nuovo Anfiteatro Martesana - ECPv6.15.12.2//NONSGML v1.0//EN
CALSCALE:GREGORIAN
METHOD:PUBLISH
X-ORIGINAL-URL:https://nuovoanfiteatromartesana.org
X-WR-CALDESC:Eventi per NAMA - Nuovo Anfiteatro Martesana
REFRESH-INTERVAL;VALUE=DURATION:PT1H
X-Robots-Tag:noindex
X-PUBLISHED-TTL:PT1H
BEGIN:VTIMEZONE
TZID:UTC
BEGIN:STANDARD
TZOFFSETFROM:+0000
TZOFFSETTO:+0000
TZNAME:UTC
DTSTART:20240101T000000
END:STANDARD
END:VTIMEZONE
BEGIN:VEVENT
DTSTART;VALUE=DATE:20250630
DTEND;VALUE=DATE:20250707
DTSTAMP:20260421T030702
CREATED:20250617T141624Z
LAST-MODIFIED:20250617T141624Z
UID:7546-1751241600-1751846399@nuovoanfiteatromartesana.org
SUMMARY:PROGRAMMA NAMA SUMMER ARENA – dal 30 giugno al 6 luglio
DESCRIPTION:Tutte le attività open air sono gratuite\, salvo dove indicato il tesseramento; in caso di pioggia gli eventi open air potranno essere spostati negli spazi interni con ingresso riservato ai soci NAMA. Per tutte le attività all’interno di NAMA il pre-tesseramento è sempre obbligatorio 24h prima dell’evento.\nPer informazioni: info@nuovoanfiteatromartesana.org \nDIVENTA SOCIO NAMA
URL:https://nuovoanfiteatromartesana.org/event/programma-nama-summer-arena-dal-30-giugno-al-06-luglio/
LOCATION:[OPEN AIR] NAMA – Nuovo Anfiteatro Martesana\, Parco della Martesana\, Milano\, 20127
CATEGORIES:NAMA SUMMER ARENA
ATTACH;FMTTYPE=image/jpeg:https://nuovoanfiteatromartesana.org/wp-content/uploads/2025/06/PROGRAMMA-NSA_Tavola-disegno-1-copia-10-1_11zon-scaled.jpg
END:VEVENT
BEGIN:VEVENT
DTSTART;VALUE=DATE:20250706
DTEND;VALUE=DATE:20250707
DTSTAMP:20260421T030702
CREATED:20250610T162734Z
LAST-MODIFIED:20250703T140429Z
UID:7448-1751760000-1751846399@nuovoanfiteatromartesana.org
SUMMARY:PROGRAMMA NAMA SUMMER ARENA - 6 luglio
DESCRIPTION:NAMA SUMMER ARENA\nDay by Day\nUn mese intero di attività all’aperto nel Parco della Martesana. La NAMA Summer Arena è un’arena estiva gratuita e popolare con una programmazione fitta di eventi gratuiti\, senza biglietti né barriere\, pensata per rendere la cultura un bene comune e accessibile a tutti: oltre 100 appuntamenti tra concerti\, teatro\, cinema all’aperto\, talk\, laboratori\, incontri e momenti di convivialità\, con il coinvolgimento di artisti\, realtà culturali indipendenti e associazioni del territorio. \nConsulta la timetable completa – dal 13 giugno al 13 luglio\nDomenica 6 luglio\nOPEN AIR:\nTutte le attività open air sono gratuite\, salvo dove indicato il tesseramento; in caso di pioggia gli eventi open air potranno essere spostati negli spazi interni con ingresso riservato ai soci NAMA. \n06.00-07.00\nPARCO DELLA MARTESANA\nYOGA ALL’ALBA CON ARIANNA COCCHI\nArianna Cocchi risveglia il Parco della Martesana con una sessione di yoga all’alba. Il miglior modo per iniziare la giornata. \n15.00 – 17.00\nPARCO DELLA MARTESANA\nLABORATORIO DI SCENOGRAFIA\nFormat creativo ed educativo pensato per avvicinare i più piccoli al mondo della scenografia teatrale e dell’allestimento. Attraverso l’utilizzo di tessuti di scarto\, sia naturali che sintetici\, i bambini sono guidati in un’attività manuale e collettiva che consiste nell’intrecciare i materiali su una rete\, ringhiera o cancello – a seconda delle caratteristiche dello spazio ospitante. L’obiettivo è realizzare una quinta scenica colorata e suggestiva\, capace di trasformare lo spazio e renderlo pronto ad accogliere performance di vario tipo: spettacoli teatrali\, concerti\, stand-up comedy\, talk e altri eventi dal vivo. A cura di Valentina Steffenoni e Giulia Baccetti \n15.30-17.30\nPARCO DELLA MARTESANA\nBAND ON STAGE\nPer quattro domeniche consecutive\, la NAMA Summer Arena ospita nel Parco della Martesana il contest dedicato a gruppi di musicisti emergenti\, giovani e giovanissimi. \n18.00-20.00\nPARCO DELLA MARTESANA\nBOXE IN ANFITEATRO CON HERACLES GYMNASIUM\nPer festeggiare i 10 anni della mitica palestra di pugilato Heracles Gymnasium\, NAMA si trasforma in un ring a cielo aperto. Pugili e pugliesse appartenenti alla categoria Youth (dai 16 ai 19 anni) e atleti Elite di diversa esperienza si sfideranno durante 10 incontri – ciascuno articolato su tre riprese da tre minuti – regolamentati secondo le norme del pugilato olimpico. Una serata per celebrare la dimensione etica e relazionale del pugilato\, che emerge nel momento in cui due atleti si fronteggiano e si riconoscono nel rispetto della sfida. Una tensione in cui lo sport diventa cultura. \n20.00-23.00\nPARCO DELLA MARTESANA\nMATU Y LA TRIBU’ (CHILE) + RICICLETTE IN CONCERTO\nMatu è sarda-finlandese ma vive e suona in Cile\, dove approfondisce e studia la musica afro-indo americana. La sua più grande motivazione è creare un ponte fra mondi diversi e formare una tribù musicale che la accompagna in un grande viaggio.\nRiciclette nasce per iniziativa di un gruppo di amiche che fonda questo progetto musicale\, spinte dal desiderio di interpretare e riarrangiare brani provenienti dal sud del mondo\, con l’intento di mantenere viva la pulsazione antica e autentica della musica di matrice popolare. \nINSIDE * SOCI NAMA\nPre-tesseramento sempre obbligatorio 24h prima dell’evento \n12.00-24.00\nNAMA NUOVO ANFITEATRO MARTESANA\nMARKET AUTOPRODUZIONI\nIl market di autoproduzioni della NAMA Summer Arena ospita artigiani\, artisti e progettisti indipendenti\, creando uno spazio di incontro tra creatività\, sostenibilità e consumo consapevole. Un’occasione per scoprire oggetti unici e supportare un’economia alternativa. \nIngresso gratuito \n17.00-24.00\nNAMA NUOVO ANFITEATRO MARTESANA\nCINEMA AL BUIO CON TAFANO\nRassegna di appuntamenti domenicali di cinema al buio\, curati da Tafano. La rassegna di film è “Il corpo della donna”\, i cui titoli saranno svelati solo durante le serate. \nIngresso gratuito \nSempre attivi:\nTutti i giorni:\nART EXHIBITION A CURA DI ART IS YOUNG \nBAR & FOOD OPEN AIR \nINFO POINT CHILL AREA & PARK \nTutti i sabati:\n14.00-19.00 ATTREZZERIA POP a cura di ConservaMi \nTutte le domeniche:\n16.00-19.00 CICLOFFICINA POP a cura di Ciclofficina Pontegiallo \nOrari NAMA OPEN AIR:\nlunedì 17.00 – 23.00\nmartedì 17.00 – 23.00\nmercoledì 17.00 – 23.00\ngiovedì 17.00 – 23.00\nvenerdì 17.00 – 24.00\nsabato 14.00 – 24.00\ndomenica 14.00 – 23.00 \n  \nPer informazioni: info@nuovoanfiteatromartesana.org \nDIVENTA SOCIO NAMA
URL:https://nuovoanfiteatromartesana.org/event/programma-nama-summer-arena-6-luglio/
LOCATION:[OPEN AIR] NAMA – Nuovo Anfiteatro Martesana\, Parco della Martesana\, Milano\, 20127
CATEGORIES:NAMA SUMMER ARENA
ATTACH;FMTTYPE=image/png:https://nuovoanfiteatromartesana.org/wp-content/uploads/2025/06/800x800px-21.png
END:VEVENT
END:VCALENDAR