BEGIN:VCALENDAR
VERSION:2.0
PRODID:-//NAMA - Nuovo Anfiteatro Martesana - ECPv6.15.12.2//NONSGML v1.0//EN
CALSCALE:GREGORIAN
METHOD:PUBLISH
X-WR-CALNAME:NAMA - Nuovo Anfiteatro Martesana
X-ORIGINAL-URL:https://nuovoanfiteatromartesana.org
X-WR-CALDESC:Eventi per NAMA - Nuovo Anfiteatro Martesana
REFRESH-INTERVAL;VALUE=DURATION:PT1H
X-Robots-Tag:noindex
X-PUBLISHED-TTL:PT1H
BEGIN:VTIMEZONE
TZID:UTC
BEGIN:STANDARD
TZOFFSETFROM:+0000
TZOFFSETTO:+0000
TZNAME:UTC
DTSTART:20240101T000000
END:STANDARD
END:VTIMEZONE
BEGIN:VEVENT
DTSTART;VALUE=DATE:20250707
DTEND;VALUE=DATE:20250708
DTSTAMP:20260421T044143
CREATED:20250610T163653Z
LAST-MODIFIED:20250610T163653Z
UID:7453-1751846400-1751932799@nuovoanfiteatromartesana.org
SUMMARY:PROGRAMMA NAMA SUMMER ARENA - 7 luglio
DESCRIPTION:NAMA SUMMER ARENA\nDay by Day\nUn mese intero di attività all’aperto nel Parco della Martesana. La NAMA Summer Arena è un’arena estiva gratuita e popolare con una programmazione fitta di eventi gratuiti\, senza biglietti né barriere\, pensata per rendere la cultura un bene comune e accessibile a tutti: oltre 100 appuntamenti tra concerti\, teatro\, cinema all’aperto\, talk\, laboratori\, incontri e momenti di convivialità\, con il coinvolgimento di artisti\, realtà culturali indipendenti e associazioni del territorio. \nConsulta la timetable completa – dal 13 giugno al 13 luglio\nLunedì 7 luglio\nOPEN AIR:\nTutte le attività open air sono gratuite\, salvo dove indicato il tesseramento; in caso di pioggia gli eventi open air potranno essere spostati negli spazi interni con ingresso riservato ai soci NAMA. \n19.15-20.15\nPARCO DELLA MARTESANA\nHATHA YOGA POSTURALE CON SARA GANDINI\nOgni lunedì\, la NAMA Summer Arena accoglie Sara Gandini per delle sessioni di Hatha Yoga posturale\, immersi nel verde del Parco della Martesana. \nLezione riservata ai soci NAMA (10€ singola lezione\, 8€ con abbonamento)\nNAMA BENESSERE Summer edition \n19.30-21.00\nPARCO DELLA MARTESANA\nTEATRIBÙ IMPROVVISAZIONE TEATRALE\nTeatribù è l’associazione nata a Milano nel 1999 con lo scopo di promuovere l’improvvisazione teatrale\, l’arte dello stare in scena senza testo. All’interno del Parco della Martesana gli attori di Teatribù si esibiranno in spettacoli improvvisati. \n21.00-23.00\nPARCO DELLA MARTESANA\nFINALE ZELIG OPEN MIC MARTESANA CON GIANCARLO BOZZO\nArea ZELIG presenta all’interno della Nama Summer Arena un palinsesto di quattro serate gratuite di cabaret e spettacolo\, a ingresso libero\, nell’anfiteatro del Parco della Martesana\, conduce Giancarlo Bozzo\, direttore artistico di Zelig. \nSempre attivi:\nTutti i giorni:\nART EXHIBITION A CURA DI ART IS YOUNG \nBAR & FOOD OPEN AIR \nINFO POINT CHILL AREA & PARK \nTutti i sabati:\n14.00-19.00 ATTREZZERIA POP a cura di ConservaMi \nTutte le domeniche:\n16.00-19.00 CICLOFFICINA POP a cura di Ciclofficina Pontegiallo \nOrari NAMA OPEN AIR:\nlunedì 17.00 – 23.00\nmartedì 17.00 – 23.00\nmercoledì 17.00 – 23.00\ngiovedì 17.00 – 23.00\nvenerdì 17.00 – 24.00\nsabato 14.00 – 24.00\ndomenica 14.00 – 23.00 \n  \nPer informazioni: info@nuovoanfiteatromartesana.org \nDIVENTA SOCIO NAMA
URL:https://nuovoanfiteatromartesana.org/event/programma-nama-summer-arena-7-luglio/
LOCATION:[OPEN AIR] NAMA – Nuovo Anfiteatro Martesana\, Parco della Martesana\, Milano\, 20127
CATEGORIES:NAMA SUMMER ARENA
ATTACH;FMTTYPE=image/png:https://nuovoanfiteatromartesana.org/wp-content/uploads/2025/06/800x800px-22.png
END:VEVENT
BEGIN:VEVENT
DTSTART;VALUE=DATE:20250707
DTEND;VALUE=DATE:20250714
DTSTAMP:20260421T044143
CREATED:20250617T141832Z
LAST-MODIFIED:20250617T141832Z
UID:7549-1751846400-1752451199@nuovoanfiteatromartesana.org
SUMMARY:PROGRAMMA NAMA SUMMER ARENA – dal 7 al 13 luglio
DESCRIPTION:Tutte le attività open air sono gratuite\, salvo dove indicato il tesseramento; in caso di pioggia gli eventi open air potranno essere spostati negli spazi interni con ingresso riservato ai soci NAMA. Per tutte le attività all’interno di NAMA il pre-tesseramento è sempre obbligatorio 24h prima dell’evento.\nPer informazioni: info@nuovoanfiteatromartesana.org \nDIVENTA SOCIO NAMA
URL:https://nuovoanfiteatromartesana.org/event/programma-nama-summer-arena-dal-7-al-13-luglio/
LOCATION:[OPEN AIR] NAMA – Nuovo Anfiteatro Martesana\, Parco della Martesana\, Milano\, 20127
CATEGORIES:NAMA SUMMER ARENA
ATTACH;FMTTYPE=image/jpeg:https://nuovoanfiteatromartesana.org/wp-content/uploads/2025/06/PROGRAMMA-NSA_Tavola-disegno-1-copia-11-1_11zon-scaled.jpg
END:VEVENT
BEGIN:VEVENT
DTSTART;VALUE=DATE:20250708
DTEND;VALUE=DATE:20250709
DTSTAMP:20260421T044143
CREATED:20250610T164713Z
LAST-MODIFIED:20250701T100056Z
UID:7465-1751932800-1752019199@nuovoanfiteatromartesana.org
SUMMARY:PROGRAMMA NAMA SUMMER ARENA - 8 luglio
DESCRIPTION:NAMA SUMMER ARENA\nDay by Day\nUn mese intero di attività all’aperto nel Parco della Martesana. La NAMA Summer Arena è un’arena estiva gratuita e popolare con una programmazione fitta di eventi gratuiti\, senza biglietti né barriere\, pensata per rendere la cultura un bene comune e accessibile a tutti: oltre 100 appuntamenti tra concerti\, teatro\, cinema all’aperto\, talk\, laboratori\, incontri e momenti di convivialità\, con il coinvolgimento di artisti\, realtà culturali indipendenti e associazioni del territorio. \nConsulta la timetable completa – dal 13 giugno al 13 luglio\nMartedì 8 luglio\nOPEN AIR:\nTutte le attività open air sono gratuite\, salvo dove indicato il tesseramento; in caso di pioggia gli eventi open air potranno essere spostati negli spazi interni con ingresso riservato ai soci NAMA. \n18.00-22.00\nPARCO DELLA MARTESANA\nREDNILO IN CONCERTO\nA CURA DI CHULLU AGENCY\nChullu Agency propone quattro appuntamenti di musica live alla NAMA Summer Arena. Martedì 8 luglio: REDNILO. Duo italo-marocchino composto da Reda Zine e Danilo Mineo\, due musicisti residenti a Bologna legati da una profonda passione per le musiche del mondo\, in particolare quelle di matrice africana. Il materiale sonoro prodotto è la sintesi del viaggio e dei loro incontri con maestri\, artisti\, griot\, artigiani e costruttori di strumenti nella valle del Draa\, nel sud-est marocchino\, incrociando il background e l’anima urbana e sperimentale dei due musicisti. \n19.15-20.15\nPARCO DELLA MARTESANA\nVINYASA YOGA CON ARIANNA COCCHI\nOgni martedì\, la NAMA Summer Arena accoglie Arianna Cocchi per delle sessioni di Vinyasa Yoga\, immersi nel verde del Parco della Martesana. \nLezione riservata ai soci NAMA (10€ singola lezione\, 8€ con abbonamento)\nNAMA BENESSERE Summer edition \n19.15-20.15\nPARCO DELLA MARTESANA\nLABORATORIO DI DIFESA PERSONALE CON ANGELO SARTORI\nOgni martedì\, la NAMA Summer Arena ospita il laboratorio di difesa personale a cura di Angelo Sartori\, offrendo uno spazio di apprendimento e gestione delle situazioni di rischio. \nLezione riservata ai soci NAMA (10€ singola lezione\, 8€ con abbonamento)\nNAMA BENESSERE Summer edition \n22.00-23.00\nPARCO DELLA MARTESANA\nPERFORMANCE: DO FAIRIES HAVE A TAIL?\n“Do fairies have a tail?” è un progetto multiforme ideato da Violetta Cottini in collaborazione con le artiste Alessandra e Roberta Indolfi e l’artista e costumista Diana Magri. Un ecosistema che si articola in una serie di atmosfere\, accogliendo al suo interno corpi e materie che esplorano il fatato come spazio di percezione fantastica. L’output per NAMA sarà una dimensione performativa-installativa che si inserisce in un percorso metamorfico\, attraversando soglie\, immaginari e percezioni oltre l’umano.\nCome aria coagulata\, dissolversi e lasciare spazio a tutto ciò che è apparentemente piccolo o lontano\, invisibile ed effimero. In una coreografia senza fine attraverso delle precise manifestazioni\, come incantesimi in mille pezzi. Una presenza e un’assenza che si scorpora e si scompone come le nostre stesse percezioni. La domanda è costante: come trasformarsi\, diventare\, sparire\, farsi piccole\, immaginarsi altrove\, code di fata? In un processo di sensibilizzazione del come si sta in relazione con il mondo e con i miraggi che lo popolano\, il tentativo di riscrivere le proprie mitologie si fa ologramma e profondità\, buca il fondale e si lascia annusare. E se tutto questo fosse un portale? Cosa cʼè una volta superata la soglia? Questa indagine ha la forma sghemba di un indovinello\, di un bosco\, di un foro e di una coda\, di una casa abbandonata\, dei suoi resti e del loro “vitalismoˮ. Lʼevocazione di un posto segreto\, il tentativo di creare un ́esperienza percettiva oltre la dimensione umana si fa materia. Il titolo stesso\, come una formula magica\, cerca di lasciar entrare\, chi lo desidera\, tra le pieghe di qualcosa di misterioso che non è dato sapere. Forse solo acuendo i sensi potremo scorgere le creature che aleggiano nei nostri ricordi smussati. \nSempre attivi:\nTutti i giorni:\nART EXHIBITION A CURA DI ART IS YOUNG \nBAR & FOOD OPEN AIR \nINFO POINT CHILL AREA & PARK \nTutti i sabati:\n14.00-19.00 ATTREZZERIA POP a cura di ConservaMi \nTutte le domeniche:\n16.00-19.00 CICLOFFICINA POP a cura di Ciclofficina Pontegiallo \nOrari NAMA OPEN AIR:\nlunedì 17.00 – 23.00\nmartedì 17.00 – 23.00\nmercoledì 17.00 – 23.00\ngiovedì 17.00 – 23.00\nvenerdì 17.00 – 24.00\nsabato 14.00 – 24.00\ndomenica 14.00 – 23.00 \n  \nPer informazioni: info@nuovoanfiteatromartesana.org \nDIVENTA SOCIO NAMA
URL:https://nuovoanfiteatromartesana.org/event/programma-nama-summer-arena-8-luglio/
LOCATION:[OPEN AIR] NAMA – Nuovo Anfiteatro Martesana\, Parco della Martesana\, Milano\, 20127
CATEGORIES:NAMA SUMMER ARENA
ATTACH;FMTTYPE=image/png:https://nuovoanfiteatromartesana.org/wp-content/uploads/2025/06/800x800px-23.png
END:VEVENT
BEGIN:VEVENT
DTSTART;VALUE=DATE:20250709
DTEND;VALUE=DATE:20250710
DTSTAMP:20260421T044143
CREATED:20250610T165053Z
LAST-MODIFIED:20250612T144517Z
UID:7468-1752019200-1752105599@nuovoanfiteatromartesana.org
SUMMARY:PROGRAMMA NAMA SUMMER ARENA - 9 luglio
DESCRIPTION:NAMA SUMMER ARENA\nDay by Day\nUn mese intero di attività all’aperto nel Parco della Martesana. La NAMA Summer Arena è un’arena estiva gratuita e popolare con una programmazione fitta di eventi gratuiti\, senza biglietti né barriere\, pensata per rendere la cultura un bene comune e accessibile a tutti: oltre 100 appuntamenti tra concerti\, teatro\, cinema all’aperto\, talk\, laboratori\, incontri e momenti di convivialità\, con il coinvolgimento di artisti\, realtà culturali indipendenti e associazioni del territorio. \nConsulta la timetable completa – dal 13 giugno al 13 luglio\nMercoledì 9 luglio\nOPEN AIR:\nTutte le attività open air sono gratuite\, salvo dove indicato il tesseramento; in caso di pioggia gli eventi open air potranno essere spostati negli spazi interni con ingresso riservato ai soci NAMA. \n18.00-20.00\nPARCO DELLA MARTESANA\nTALK CON SILVIA ROMANI\nSilvia Romani\, Chiara Cappelletto e Carlotta Cossutta\, insieme a tre docenti dell’Università Statale di Milano tracceranno alcuni collegamenti tra mondo antico\, filosofia e contemporaneità sul tema del femminile e dei femminismi. \n19.15-20.15\nPARCO DELLA MARTESANA\nHATHA YOGA E MEDITAZIONE KUNDALINI CON ROMINA GASPERONI\nOgni mercoledì\, la NAMA Summer Arena accoglie Romina Gasperoni per delle sessioni di Hatha Yoga e meditazione Kundalini\, immersi nel verde del Parco della Martesana. \nLezione riservata ai soci NAMA (10€ singola lezione\, 8€ con abbonamento)\nNAMA BENESSERE Summer edition \nSempre attivi:\nTutti i giorni:\nART EXHIBITION A CURA DI ART IS YOUNG \nBAR & FOOD OPEN AIR \nINFO POINT CHILL AREA & PARK \nTutti i sabati:\n14.00-19.00 ATTREZZERIA POP a cura di ConservaMi \nTutte le domeniche:\n16.00-19.00 CICLOFFICINA POP a cura di Ciclofficina Pontegiallo \nOrari NAMA OPEN AIR:\nlunedì 17.00 – 23.00\nmartedì 17.00 – 23.00\nmercoledì 17.00 – 23.00\ngiovedì 17.00 – 23.00\nvenerdì 17.00 – 24.00\nsabato 14.00 – 24.00\ndomenica 14.00 – 23.00 \n  \nPer informazioni: info@nuovoanfiteatromartesana.org \nDIVENTA SOCIO NAMA
URL:https://nuovoanfiteatromartesana.org/event/programma-nama-summer-arena-9-luglio/
LOCATION:[OPEN AIR] NAMA – Nuovo Anfiteatro Martesana\, Parco della Martesana\, Milano\, 20127
CATEGORIES:NAMA SUMMER ARENA
ATTACH;FMTTYPE=image/png:https://nuovoanfiteatromartesana.org/wp-content/uploads/2025/06/800x800px-24.png
END:VEVENT
BEGIN:VEVENT
DTSTART;VALUE=DATE:20250710
DTEND;VALUE=DATE:20250711
DTSTAMP:20260421T044143
CREATED:20250610T165443Z
LAST-MODIFIED:20250620T110917Z
UID:7471-1752105600-1752191999@nuovoanfiteatromartesana.org
SUMMARY:PROGRAMMA NAMA SUMMER ARENA - 10 luglio
DESCRIPTION:NAMA SUMMER ARENA\nDay by Day\nUn mese intero di attività all’aperto nel Parco della Martesana. La NAMA Summer Arena è un’arena estiva gratuita e popolare con una programmazione fitta di eventi gratuiti\, senza biglietti né barriere\, pensata per rendere la cultura un bene comune e accessibile a tutti: oltre 100 appuntamenti tra concerti\, teatro\, cinema all’aperto\, talk\, laboratori\, incontri e momenti di convivialità\, con il coinvolgimento di artisti\, realtà culturali indipendenti e associazioni del territorio. \nConsulta la timetable completa – dal 13 giugno al 13 luglio\nGiovedì 10 luglio\nOPEN AIR:\nTutte le attività open air sono gratuite\, salvo dove indicato il tesseramento; in caso di pioggia gli eventi open air potranno essere spostati negli spazi interni con ingresso riservato ai soci NAMA. \n17.00-22.00\nPARCO DELLA MARTESANA\nMUSICA CON MARTESOUND\nMartesound è la giornata all’insegna di musica dal vivo\, DJ set\, birre artigianali\, organizzato e promosso da La Buttiga nel Parco della Martesana. \n19.00-21.00\nPARCO DELLA MARTESANA\nRUN SULLA MARTESANA BY NOLO RUNNERS\nIl pennuto dei Nolo Runners ha messo il nido a NAMA! Run sulla Martesana è l’appuntamento fisso di corsa collettiva organizzato da Nolo Runners che inizia e si conclude nel Parco della Martesana. \n19.00 ritrovo\n19.30 partenza da NAMA\n20.30 ritorno a NAMA \nINSIDE * SOCI NAMA\nPre-tesseramento sempre obbligatorio 24h prima dell’evento \n9.00 -10.00\nNAMA – NUOVO ANFITEATRO MARTESANA\nYOGA +50 CON ARIANNA BATTISTON\nOgni giovedì\, la NAMA Summer Arena accoglie Arianna Battiston per delle sessioni di Yoga gentile dedicato over 50. \nLezione gratuita riservata ai soci NAMA\nNAMA BENESSERE Summer edition \n21.00-2.00\nNAMA – NUOVO ANFITEATRO MARTESANA\nRIBES JAM SESSION\nRIBES JAM è il primo format di NAMA in collaborazione con Sessioni Sotterranee. Dopo l’aperitivo Jazz\, ci si sposta dentro a NAMA per proseguire la serata all’insegna di Ribes Jam. \nLine up:\nSILVIA REALE (Live set)\nFARACI (Live set)\nUn viaggio musicale tra cultura latina e mainstream italiano. FARACI è un collettivo guidato dall’estro di Alessandro Faraci\, che unisce la profondità della tradizione latina con il linguaggio contemporaneo della musica italiana. \nTutti i giovedì in occasione di RIBES JAM offerta birra a 3\,50€ riservata ai soci NAMA! \nIngresso gratuito \nSempre attivi:\nTutti i giorni:\nART EXHIBITION A CURA DI ART IS YOUNG \nBAR & FOOD OPEN AIR \nINFO POINT CHILL AREA & PARK \nTutti i sabati:\n14.00-19.00 ATTREZZERIA POP a cura di ConservaMi \nTutte le domeniche:\n16.00-19.00 CICLOFFICINA POP a cura di Ciclofficina Pontegiallo \nOrari NAMA OPEN AIR:\nlunedì 17.00 – 23.00\nmartedì 17.00 – 23.00\nmercoledì 17.00 – 23.00\ngiovedì 17.00 – 23.00\nvenerdì 17.00 – 24.00\nsabato 14.00 – 24.00\ndomenica 14.00 – 23.00 \n  \nPer informazioni: info@nuovoanfiteatromartesana.org \nDIVENTA SOCIO NAMA
URL:https://nuovoanfiteatromartesana.org/event/programma-nama-summer-arena-10-luglio/
LOCATION:[OPEN AIR] NAMA – Nuovo Anfiteatro Martesana\, Parco della Martesana\, Milano\, 20127
CATEGORIES:NAMA SUMMER ARENA
ATTACH;FMTTYPE=image/png:https://nuovoanfiteatromartesana.org/wp-content/uploads/2025/06/800x800px-25.png
END:VEVENT
BEGIN:VEVENT
DTSTART;VALUE=DATE:20250711
DTEND;VALUE=DATE:20250712
DTSTAMP:20260421T044143
CREATED:20250610T165938Z
LAST-MODIFIED:20250610T170222Z
UID:7474-1752192000-1752278399@nuovoanfiteatromartesana.org
SUMMARY:PROGRAMMA NAMA SUMMER ARENA - 11 luglio
DESCRIPTION:NAMA SUMMER ARENA\nDay by Day\nUn mese intero di attività all’aperto nel Parco della Martesana. La NAMA Summer Arena è un’arena estiva gratuita e popolare con una programmazione fitta di eventi gratuiti\, senza biglietti né barriere\, pensata per rendere la cultura un bene comune e accessibile a tutti: oltre 100 appuntamenti tra concerti\, teatro\, cinema all’aperto\, talk\, laboratori\, incontri e momenti di convivialità\, con il coinvolgimento di artisti\, realtà culturali indipendenti e associazioni del territorio. \nConsulta la timetable completa – dal 13 giugno al 13 luglio\nVenerdì 11 luglio\nOPEN AIR:\nTutte le attività open air sono gratuite\, salvo dove indicato il tesseramento; in caso di pioggia gli eventi open air potranno essere spostati negli spazi interni con ingresso riservato ai soci NAMA. \n16.00-18.00\nPARCO DELLA MARTESANA\nTALK CON SCOMODO\nScomodo è una realtà indipendente nata a Roma nel 2016 per dare voce alle nuove generazioni. È una comunità attiva\, politica e culturale che produce una rivista autofinanziata e costruisce spazi di confronto e crescita. Ogni progetto nasce dal basso e reinveste in partecipazione\, cultura e libertà d’espressione. \n17.00-24.00\nPARCO DELLA MARTESANA\nCLOSING PARTY by BOTELLON\nBotellon Milano\, il festival culturale urbano che raccoglie il crescente bisogno di spazi di aggregazione e di cultura accessibili a tutti e tutte\, apre l’ultimo weekend della NAMA Summer Arena\, animando il Parco della Martesana con il suo solito stile. \nINSIDE * SOCI NAMA\nPre-tesseramento sempre obbligatorio 24h prima dell’evento \n23.00-TILL LATE\nNAMA NUOVO ANFITEATRO MARTESANA\nNSA AFTER PARTY by BOTELLON\nBotellon Milano si sposta anche dentro le porte di NAMA. \nIngresso con contributo di 10€ \nSempre attivi:\nTutti i giorni:\nART EXHIBITION A CURA DI ART IS YOUNG \nBAR & FOOD OPEN AIR \nINFO POINT CHILL AREA & PARK \nTutti i sabati:\n14.00-19.00 ATTREZZERIA POP a cura di ConservaMi \nTutte le domeniche:\n16.00-19.00 CICLOFFICINA POP a cura di Ciclofficina Pontegiallo \nOrari NAMA OPEN AIR:\nlunedì 17.00 – 23.00\nmartedì 17.00 – 23.00\nmercoledì 17.00 – 23.00\ngiovedì 17.00 – 23.00\nvenerdì 17.00 – 24.00\nsabato 14.00 – 24.00\ndomenica 14.00 – 23.00 \n  \nPer informazioni: info@nuovoanfiteatromartesana.org \nDIVENTA SOCIO NAMA
URL:https://nuovoanfiteatromartesana.org/event/programma-nama-summer-arena-11-luglio/
LOCATION:[OPEN AIR] NAMA – Nuovo Anfiteatro Martesana\, Parco della Martesana\, Milano\, 20127
CATEGORIES:NAMA SUMMER ARENA
ATTACH;FMTTYPE=image/png:https://nuovoanfiteatromartesana.org/wp-content/uploads/2025/06/800x800px-26.png
END:VEVENT
BEGIN:VEVENT
DTSTART;VALUE=DATE:20250712
DTEND;VALUE=DATE:20250713
DTSTAMP:20260421T044143
CREATED:20250610T170530Z
LAST-MODIFIED:20250712T092944Z
UID:7479-1752278400-1752364799@nuovoanfiteatromartesana.org
SUMMARY:PROGRAMMA NAMA SUMMER ARENA - 12 luglio
DESCRIPTION:NAMA SUMMER ARENA\nDay by Day\nUn mese intero di attività all’aperto nel Parco della Martesana. La NAMA Summer Arena è un’arena estiva gratuita e popolare con una programmazione fitta di eventi gratuiti\, senza biglietti né barriere\, pensata per rendere la cultura un bene comune e accessibile a tutti: oltre 100 appuntamenti tra concerti\, teatro\, cinema all’aperto\, talk\, laboratori\, incontri e momenti di convivialità\, con il coinvolgimento di artisti\, realtà culturali indipendenti e associazioni del territorio. \nConsulta la timetable completa – dal 13 giugno al 13 luglio\nSabato 12 luglio\nOPEN AIR:\nTutte le attività open air sono gratuite\, salvo dove indicato il tesseramento; in caso di pioggia gli eventi open air potranno essere spostati negli spazi interni con ingresso riservato ai soci NAMA. \n14.00-16.00\nPARCO DELLA MARTESANA\nLABORATORIO DI SERIGRAFIA CON VERYSERI LAB (EVENTO ANNULLATO)\nPorta delle magliette vecchie che le facciamo nuove! Esperienza pratica di stampa serigrafica. Gli artisti di VerySeri vi accompagneranno nel mondo della serigrafia\, una tecnica semplice e versatile da imparare divertendosi! \n14.00-16.00\nPARCO DELLA MARTESANA\nLEZIONE DI TAI CHI\nOgni sabato la NAMA Summer Arena ospita una lezione di Tai Chi nel verde del Parco della Martesana\, offrendo un’occasione per ritrovare armonia\, equilibrio e consapevolezza del movimento. \n15.00-18.00\nPARCO DELLA MARTESANA\nLABORATORIO PER BAMBINI CON MAFALDA GALESSI\nI laboratori per bambini all’interno della NAMA Summer Arena sono stati pensati come un momento di forte connessione con le popolazioni che frequentano il Parco della Martesana. Nei fine settimana\, questi laboratori costituiranno uno spazio di sperimentazione per bambini di ogni età\, che verranno coinvolti in attività creative attraverso l’uso dell’immaginazione e della fantasia\, ogni volta con supporti diversi: dalla costruzione di città ideali con l’argilla\, al riutilizzo di materiali di recupero per la costruzione di oggetti\, all’utilizzo di elementi naturali per la creazione di opere colorate. \nCURCURAMA – Laboratorio di fotografia ecologica e organica a cura di Mafalda Galessi \n17.00-24.00\nPARCO DELLA MARTESANA\nCLOSING PARTY by CLUBBER AGENCY E POLIANIMALI\nINSIDE * SOCI NAMA\nPre-tesseramento sempre obbligatorio 24h prima dell’evento \n23.00-till late\nNAMA NUOVO ANFITEATRO MARTESANA\nNSA AFTER PARTY by CLUBBER AGENCY E POLIANIMALI\nIngresso con contributo  \nSempre attivi:\nTutti i giorni:\nART EXHIBITION A CURA DI ART IS YOUNG \nBAR & FOOD OPEN AIR \nINFO POINT CHILL AREA & PARK \nTutti i sabati:\n14.00-19.00 ATTREZZERIA POP a cura di ConservaMi \nTutte le domeniche:\n16.00-19.00 CICLOFFICINA POP a cura di Ciclofficina Pontegiallo \nOrari NAMA OPEN AIR:\nlunedì 17.00 – 23.00\nmartedì 17.00 – 23.00\nmercoledì 17.00 – 23.00\ngiovedì 17.00 – 23.00\nvenerdì 17.00 – 24.00\nsabato 14.00 – 24.00\ndomenica 14.00 – 23.00 \n  \nPer informazioni: info@nuovoanfiteatromartesana.org \nDIVENTA SOCIO NAMA
URL:https://nuovoanfiteatromartesana.org/event/programma-nama-summer-arena-12-luglio/
LOCATION:[OPEN AIR] NAMA – Nuovo Anfiteatro Martesana\, Parco della Martesana\, Milano\, 20127
CATEGORIES:NAMA SUMMER ARENA
ATTACH;FMTTYPE=image/png:https://nuovoanfiteatromartesana.org/wp-content/uploads/2025/06/32.png
END:VEVENT
BEGIN:VEVENT
DTSTART;VALUE=DATE:20250713
DTEND;VALUE=DATE:20250714
DTSTAMP:20260421T044143
CREATED:20250610T171121Z
LAST-MODIFIED:20250610T171121Z
UID:7481-1752364800-1752451199@nuovoanfiteatromartesana.org
SUMMARY:PROGRAMMA NAMA SUMMER ARENA - 13 luglio
DESCRIPTION:NAMA SUMMER ARENA\nDay by Day\nUn mese intero di attività all’aperto nel Parco della Martesana. La NAMA Summer Arena è un’arena estiva gratuita e popolare con una programmazione fitta di eventi gratuiti\, senza biglietti né barriere\, pensata per rendere la cultura un bene comune e accessibile a tutti: oltre 100 appuntamenti tra concerti\, teatro\, cinema all’aperto\, talk\, laboratori\, incontri e momenti di convivialità\, con il coinvolgimento di artisti\, realtà culturali indipendenti e associazioni del territorio. \nConsulta la timetable completa – dal 13 giugno al 13 luglio\nDomenica 13 luglio\nOPEN AIR:\nTutte le attività open air sono gratuite\, salvo dove indicato il tesseramento; in caso di pioggia gli eventi open air potranno essere spostati negli spazi interni con ingresso riservato ai soci NAMA. \n15.30-17.30\nPARCO DELLA MARTESANA\nBAND ON STAGE\nPer quattro domeniche consecutive\, la NAMA Summer Arena ospita nel Parco della Martesana il contest dedicato a gruppi di musicisti emergenti\, giovani e giovanissimi. \n17.30-20.30\nPARCO DELLA MARTESANA\nJAM SESSION FINALE CON SESSIONI SOTTERRANEE\nSessioni Sotteranee è un collettivo che si propone di promuovere musica dal vivo\, jam session e momenti di socialità nell’area metropolitana di Milano. \n19.00-21.00\nPARCO DELLA MARTESANA\nNSA CLOSING RUN by NOLO RUNNERS\nIl pennuto dei Nolo Runners ha messo il nido a NAMA! Nolo Runners organizza una corsa collettiva aperta a tutti – anche ai principianti. \n19.00 ritrovo\n19.30 partenza da NAMA\n20.30 ritorno a NAMA\n21.00 runners aperitivo \n20.30-21.30\nPARCO DELLA MARTESANA\nPERFORMANCE ABLE / BODYED CABLE\n21.30-23.00\nPARCO DELLA MARTESANA\nK^B°B° ORCHESTRA PRESENTA ERA WE TIKO\nK^B°B° Orchestra è un collettivo in cerca di confronto e indagine sui concetti di comunità\, identità e libertà. Lo spettacolo “Era We.Tiko” è un rituale crossmediale in cinque atti\, che unisce elementi estemporanei – come musica e danza – a suggestioni rubate a epoche e culture lontane. Una miscela che vuole ricreare “in miniatura” le pulsioni\, resistenze e contraddizioni della civiltà meticcia\, alienata\, globalizzata\, tecnologizzata\, ma ancora fortemente gerarchica\, in cui siamo immersi. Il racconto del lato mostruoso che si cela in ognuno di noi: la maschera sociale di molti\, la cui docilità è garantita da un mal celato rapporto di forza. \n  \nINSIDE * SOCI NAMA\nPre-tesseramento sempre obbligatorio 24h prima dell’evento \n12.00-24.00\nNAMA NUOVO ANFITEATRO MARTESANA\nMARTE.MARKET\nA cura di Non Morire e Psicodelizie\, una giornata dedicata ad autoproduzioni indipendenti di fanzine\, stampe\, gadget e molotov culturali. Un appuntamento pensato per valorizzare circuiti controculturali e pratiche alternative\, promuovendo la condivisione di saperi e di linguaggi espressivi in uno spazio aperto\, accessibile e condiviso. \nIngresso gratuito \nSempre attivi:\nTutti i giorni:\nART EXHIBITION A CURA DI ART IS YOUNG \nBAR & FOOD OPEN AIR \nINFO POINT CHILL AREA & PARK \nTutti i sabati:\n14.00-19.00 ATTREZZERIA POP a cura di ConservaMi \nTutte le domeniche:\n16.00-19.00 CICLOFFICINA POP a cura di Ciclofficina Pontegiallo \nOrari NAMA OPEN AIR:\nlunedì 17.00 – 23.00\nmartedì 17.00 – 23.00\nmercoledì 17.00 – 23.00\ngiovedì 17.00 – 23.00\nvenerdì 17.00 – 24.00\nsabato 14.00 – 24.00\ndomenica 14.00 – 23.00 \n  \nPer informazioni: info@nuovoanfiteatromartesana.org \nDIVENTA SOCIO NAMA
URL:https://nuovoanfiteatromartesana.org/event/programma-nama-summer-arena-13-luglio/
LOCATION:[OPEN AIR] NAMA – Nuovo Anfiteatro Martesana\, Parco della Martesana\, Milano\, 20127
CATEGORIES:NAMA SUMMER ARENA
ATTACH;FMTTYPE=image/png:https://nuovoanfiteatromartesana.org/wp-content/uploads/2025/06/33.png
END:VEVENT
END:VCALENDAR