BEGIN:VCALENDAR
VERSION:2.0
PRODID:-//NAMA - Nuovo Anfiteatro Martesana - ECPv6.15.12.2//NONSGML v1.0//EN
CALSCALE:GREGORIAN
METHOD:PUBLISH
X-ORIGINAL-URL:https://nuovoanfiteatromartesana.org
X-WR-CALDESC:Eventi per NAMA - Nuovo Anfiteatro Martesana
REFRESH-INTERVAL;VALUE=DURATION:PT1H
X-Robots-Tag:noindex
X-PUBLISHED-TTL:PT1H
BEGIN:VTIMEZONE
TZID:UTC
BEGIN:STANDARD
TZOFFSETFROM:+0000
TZOFFSETTO:+0000
TZNAME:UTC
DTSTART:20250101T000000
END:STANDARD
END:VTIMEZONE
BEGIN:VEVENT
DTSTART;TZID=UTC:20260117T100000
DTEND;TZID=UTC:20260117T100000
DTSTAMP:20260420T175800
CREATED:20251222T115129Z
LAST-MODIFIED:20260111T145234Z
UID:8789-1768644000-1768644000@nuovoanfiteatromartesana.org
SUMMARY:PROGRAMMA SABATO 17 GENNAIO - IMMAGINARE IL FUTURO
DESCRIPTION:Sabato 17 gennaio\nIMMAGINARE IL FUTURO\n[BENESSERE]\n10.00-17.00\nNAMA RETREAT DAY\nUna giornata dedicata a tutte le attività benessere di NAMA: tante lezioni brevi e gratuite per scoprire insegnanti e pratiche. Non è necessario prenotare: ti basta arrivare 15 minuti prima portando il tuo tappetino. \n10:00-10:30 Spazio eventi\nVinyasa Yoga con Arianna Cocchi\n@ Spazio eventi \n10:00-10:30\nYoga gentile con Arianna Battiston\n@ Sala Bar \n10:45-11:15\nHatha Yoga e meditazione Kundalini con Romina Gasperoni\n@ Sala Bar \n10:45-11:15\nPilates con Adel SuMisuraPilates\n@ Spazio eventi \n11:30-12:00\nDifesa personale con Angelo Sartori\n@ Spazio eventi \n14:00-14:30\nHatha Yoga posturale con Sara Scalmani\n@ Sala Bar \n14:45-15:15\nSalto della corda con Simone Marignoli\n@ Sala Bar \n15:30-16:00\nRayuela con Viviana Fabbris (over 65)\n@ Sala Bar \n16:15-17:00\nBagno di suoni e campane di cristallo con Gaia Molinari\n@ Sala bar \n  \n[ WORKSHOP ]\n15.00-18.00\nREPAIR DAY\nRiparazione elettrotecnica\, ciclofficina\, sartoria e falegnameria e prestito oggetti in collaborazione con la Biblioteca degli Oggetti\nA cura di ConservaMI \nMacchinette (laboratorio): sono strumenti autocostruiti\, imperfetti e unici. Attraverso la programmazione di schede tra cui Arduino\, Daisy Seed e Raspberry PI è possibile creare pedali effetto e sintetizzatori modellati sulle proprie esigenze. Verranno creati e messi a disposizione prototipi. \n  \n[CULTURA] [TALK]\n18.00 – 20.00\nIL FUTURO DELLE DEMOCRAZIE\nChe futuro hanno le democrazie sul pianeta terra? Come si confrontano con le altre forme di governo? Un confronto tra Italia\, Stati Uniti D’America e Cina\, nel contesto della crisi politica e culturale dell’Occidente. Un’analisi dei sistemi politici e dei loro rapporti con l’economia e la società. \nintervengono:\nSimone Pieranni – giornalista e fondatore di China Files\nClara Mattei (in collegamento dagli Stati Uniti) – economista\, direttrice del Forum per l’Emancipazione Economica Reale presso l’Università di Tulsa\, Oklahoma\nMarco Almagisti – Docente di Scienza politica all’Università di Padova\nAndrea Cegna – giornalista e collaboratore di Radio Popolare e Il manifesto \nmodera:\nFrancesca Vomeri \n  \n[MUSICA]\n21:00 – till late\nNAMA STUDIO SHOWCASE\nCon Fula e Rodd (25campa)\, Yarakì e Prima Alba \n  \n[MUSICA]\n21:00 – till late\nMIGARDEN & POLIANIMALI – Showcase\nMigarden\, associazione culturale indipendente\, e Polianimali\, format universitario milanese\, si incontrano per il compleanno di NAMA. Una notte di musica\, sperimentazioni sonore e performance dal vivo. \nLine-up: Known Artist\, Dit zy\, iiwii.hub\, Tarantino\, 039 SoundSystem\, Clou\, Novze \n✴︎\nConsulta il programma completo dal 13 al 18 gennaio \nIngresso gratuito riservato ai soci NAMA fino alle 23\, a seguire contributo di 5€.\nSe non hai la tessera\, registrati online: il pre-tesseramento è obbligatorio almeno 24h prima di arrivare. \nDIVENTA SOCIO NAMA
URL:https://nuovoanfiteatromartesana.org/event/programma-17-gennaio-nama-anno-01/
LOCATION:[INSIDE] NAMA – Nuovo Anfiteatro Martesana\, Parco della Martesana\, Milano\, 20127
CATEGORIES:nama-anno01
ATTACH;FMTTYPE=image/png:https://nuovoanfiteatromartesana.org/wp-content/uploads/2025/12/NAMA-1000x1000px-2026-01-09T170024.295.png
END:VEVENT
BEGIN:VEVENT
DTSTART;TZID=UTC:20260117T100000
DTEND;TZID=UTC:20260117T100000
DTSTAMP:20260420T175800
CREATED:20260110T161616Z
LAST-MODIFIED:20260110T163743Z
UID:9124-1768644000-1768644000@nuovoanfiteatromartesana.org
SUMMARY:[BENESSERE] NAMA RETREAT DAY
DESCRIPTION:Sabato 17 gennaio\nNAMA RETREAT DAY\n[BENESSERE]\n10.00-17.00\nUn’intera giornata dedicata alle attività benessere: tante lezioni brevi e gratuite per scoprire insegnanti e pratiche. Non è necessario prenotare: ti basta arrivare 15 minuti prima portando il tuo tappetino. \nIl programma benessere ripartirà regolarmente con le lezioni settimanali da lunedì 19 gennaio. \n10:00-10:30 Spazio eventi\nVinyasa Yoga con Arianna Cocchi\n@ Spazio eventi\n10:00-10:30\nYoga gentile con Arianna Battiston\n@ Sala Bar\n10:45-11:15\nHatha Yoga e meditazione Kundalini con Romina Gasperoni\n@ Sala Bar\n10:45-11:15\nPilates con Adel SuMisuraPilates\n@ Spazio eventi\n11:30-12:00\nDifesa personale con Angelo Sartori\n@ Spazio eventi\n14:00-14:30\nHatha Yoga posturale con Sara Scalmani\n@ Sala Bar\n14:45-15:15\nSalto della corda con Simone Marignoli\n@ Sala Bar\n15:30-16:00\nRayuela con Viviana Fabbris (over 65)\n@ Sala Bar\n16:15-17:00\nBagno di suoni e campane di cristallo con Gaia Molinari\n@ Sala bar\nApprofondimenti su lezioni e insegnanti\n✴︎\n \n  \n✴︎\nConsulta il programma completo dal 13 al 18 gennaio \nIngresso gratuito riservato ai soci NAMA.\nSe non hai la tessera\, registrati online: il pre-tesseramento è obbligatorio almeno 24h prima di arrivare. \nDIVENTA SOCIO NAMA
URL:https://nuovoanfiteatromartesana.org/event/benessere-nama-retreat-day/
LOCATION:[INSIDE] NAMA – Nuovo Anfiteatro Martesana\, Parco della Martesana\, Milano\, 20127
CATEGORIES:nama-anno01
ATTACH;FMTTYPE=image/png:https://nuovoanfiteatromartesana.org/wp-content/uploads/2026/01/NAMA-1000x1000px-2026-01-10T171425.216.png
END:VEVENT
BEGIN:VEVENT
DTSTART;TZID=UTC:20260117T180000
DTEND;TZID=UTC:20260117T180000
DTSTAMP:20260420T175800
CREATED:20260109T150917Z
LAST-MODIFIED:20260110T161924Z
UID:9077-1768672800-1768672800@nuovoanfiteatromartesana.org
SUMMARY:[TALK] IL FUTURO DELLE DEMOCRAZIE
DESCRIPTION:Sabato 17 gennaio\nIL FUTURO DELLE DEMOCRAZIE\n[CULTURA] [TALK]\n18.00 – 20.00\nChe futuro hanno le democrazie sul pianeta terra? Come si confrontano con le altre forme di governo? Un confronto tra Italia\, Stati Uniti D’America e Cina\, nel contesto della crisi politica e culturale dell’Occidente. Un’analisi dei sistemi politici e dei loro rapporti con l’economia e la società. \nintervengono:\nSimone Pieranni – giornalista e fondatore di China Files\nClara Mattei (in collegamento dagli Stati Uniti) – economista\, direttrice del Forum per l’Emancipazione Economica Reale presso l’Università di Tulsa\, Oklahoma\nMarco Almagisti – Docente di Scienza politica all’Università di Padova\nAndrea Cegna – giornalista e collaboratore di Radio Popolare e Il manifesto \nmodera:\nFrancesca Vomeri \n✴︎\nSimone Pieranni è un giornalista\, scrittore e divulgatore italiano specializzato in Cina e Asia orientale. Lavora a Chora Media. Da anni analizza le trasformazioni politiche\, economiche e culturali della Cina contemporanea e il loro impatto sugli equilibri globali\, con particolare attenzione ai rapporti tra Pechino\, l’Europa e l’Italia. \nNel suo lavoro combina competenza giornalistica e capacità narrativa\, rendendo accessibili temi complessi come l’ascesa cinese\, le nuove vie della seta\, il ruolo delle piattaforme tecnologiche e le tensioni tra autoritarismo\, globalizzazione e democrazia. Il suo approccio è analitico\, non ideologico: parte dai fatti e dai contesti\, evitando semplificazioni e letture occidentalocentriche. \nÈ autore dei libri “2100. Come sarà l’Asia\, come saremo noi” (2024) e “Red Mirror. Il nostro futuro si scrive in Cina” (2020). \n  \n  \n\n  \nClara Mattei è un’economista italiana\, docente e ricercatrice\, nota a livello internazionale per i suoi studi sull’austerità e sul rapporto tra politiche economiche e potere politico. Insegna economia alla New School for Social Research di New York. È Presidente e Fondatrice del Forum For Real Economic Emancipation (FREE). È autrice del libro “L’economia è politica” (2023). Mattei interviene regolarmente nel dibattito pubblico internazionale su lavoro\, disuguaglianze\, crisi economiche e democrazia\, portando una lettura critica dell’economia dominante e mettendo in discussione la presunta neutralità delle politiche economiche. \n\n  \n  \n  \n  \n \nMarco Almagisti è un politologo italiano\, professore associato di Scienza politica presso l’Università degli Studi di Padova. \nI suoi ambiti di ricerca principali riguardano la sociologia politica\, la partecipazione e la rappresentanza\, i partiti politici\, i sistemi politici territoriali e le trasformazioni della democrazia contemporanea\, con particolare attenzione al contesto italiano ed europeo. \nOltre all’attività accademica\, Marco Almagisti interviene regolarmente nel dibattito pubblico come analista politico\, collaborando con riviste\, quotidiani e contesti di divulgazione culturale\, contribuendo a rendere accessibili temi complessi legati alla crisi e all’evoluzione della democrazia. \n  \n\n  \n  \n \nAndrea Cegna è un giornalista specializzato in America Latina\, movimenti sociali\, politica e culture popolari. \nCollabora con Radio Popolare e il manifesto e ha pubblicato reportage e analisi su diverse testate e piattaforme\, tra cui Pagine Esteri\, dove affronta temi geopolitici e lotte sociali nel continente latinoamericano. \nOltre al lavoro giornalistico\, ha una lunga esperienza nelle radio indipendente e nella produzione di podcast e programmi. \nScrive e parla di movimenti indigeni e anti-coloniali\, politica\, musica e cultura. Ha vissuto e viaggiato ripetutamente in paesi dell’America Latina ed è autore di libri sul Messico\, sulla storia dell’hip hop italiano e sulle culture urbane. \n\n\n✴︎\nConsulta il programma completo dal 13 al 18 gennaio \nIngresso gratuito riservato ai soci NAMA.\nSe non hai la tessera\, registrati online: il pre-tesseramento è obbligatorio almeno 24h prima di arrivare. \nDIVENTA SOCIO NAMA
URL:https://nuovoanfiteatromartesana.org/event/talk-il-futuro-delle-democrazie/
LOCATION:[INSIDE] NAMA – Nuovo Anfiteatro Martesana\, Parco della Martesana\, Milano\, 20127
CATEGORIES:nama-anno01
ATTACH;FMTTYPE=image/png:https://nuovoanfiteatromartesana.org/wp-content/uploads/2026/01/NAMA-1000x1000px-2026-01-09T160635.622.png
END:VEVENT
END:VCALENDAR