BEGIN:VCALENDAR
VERSION:2.0
PRODID:-//NAMA - Nuovo Anfiteatro Martesana - ECPv6.15.12.2//NONSGML v1.0//EN
CALSCALE:GREGORIAN
METHOD:PUBLISH
X-ORIGINAL-URL:https://nuovoanfiteatromartesana.org
X-WR-CALDESC:Eventi per NAMA - Nuovo Anfiteatro Martesana
REFRESH-INTERVAL;VALUE=DURATION:PT1H
X-Robots-Tag:noindex
X-PUBLISHED-TTL:PT1H
BEGIN:VTIMEZONE
TZID:UTC
BEGIN:STANDARD
TZOFFSETFROM:+0000
TZOFFSETTO:+0000
TZNAME:UTC
DTSTART:20250101T000000
END:STANDARD
END:VTIMEZONE
BEGIN:VEVENT
DTSTART;TZID=UTC:20260116T183000
DTEND;TZID=UTC:20260116T183000
DTSTAMP:20260420T175830
CREATED:20251222T114639Z
LAST-MODIFIED:20260111T145403Z
UID:8787-1768588200-1768588200@nuovoanfiteatromartesana.org
SUMMARY:PROGRAMMA VENERDÌ 16 GENNAIO - IMMAGINARE IL FUTURO
DESCRIPTION:Venerdì 16 gennaio\nIMMAGINARE IL FUTURO\n[CULTURA] [TALK]\n18.30 – 20.00\nUN FUTURO INTERSEZIONALE\nQuanto e come è cambiata l’esperienza nelle ultime generazioni: tra integrazione e discriminazione\, tra nuove libertà e vecchi stereotipi. Genere\, etnia\, classe sociale e status migratorio si combinano influenzando profondamente le traiettorie esistenziali: le risposte di una prospettiva intersezionale. \nintervengono:\nNadeesha Uyangoda – scrittrice\nAriman Scriba – editor e fondatrice di MUN Magazine\nMaria Catena Mancuso – autrice \nmodera:\nMargherita Maggioni – sociologa \n  \n[MUSICA] [ARTE]\n18.00 – 24.00\nDUAL AUDIO VIDEO INSTALLATION\nA cura di IO Multimedia e TEMPO\nL’installazione sarà visitabile anche sabato 17 e domenica 18 gennaio. \n  \n[MUSICA] [ARTE]\n20.00 – till late\nROCKERS ARENA presenta DUBWISE MILANO: Dreadlion + Lion Warriah\nDreadlion alongside Lion Warriah\nResidents DJS: Toolyo\, Mr. Brown & The Roots Fellas \n  \n[MUSICA] [ARTE]\n20.00 – till late\nBREAKOUT\nLine up: Ssaramood\, Lara David\, Xian\, Lark \n✴︎\nConsulta il programma completo dal 13 al 18 gennaio \nIngresso gratuito riservato ai soci NAMA fino alle 23\, a seguire contributo di 5€.\nSe non hai la tessera\, registrati online: il pre-tesseramento è obbligatorio almeno 24h prima di arrivare. \nDIVENTA SOCIO NAMA
URL:https://nuovoanfiteatromartesana.org/event/programma-16-gennaio-nama-anno-01/
LOCATION:[INSIDE] NAMA – Nuovo Anfiteatro Martesana\, Parco della Martesana\, Milano\, 20127
CATEGORIES:nama-anno01
ATTACH;FMTTYPE=image/png:https://nuovoanfiteatromartesana.org/wp-content/uploads/2025/12/141.png
END:VEVENT
BEGIN:VEVENT
DTSTART;TZID=UTC:20260116T183000
DTEND;TZID=UTC:20260116T183000
DTSTAMP:20260420T175830
CREATED:20260109T142224Z
LAST-MODIFIED:20260110T152003Z
UID:9061-1768588200-1768588200@nuovoanfiteatromartesana.org
SUMMARY:[TALK] UN FUTURO INTERSEZIONALE
DESCRIPTION:Venerdì 16 gennaio\nUN FUTURO INTERSEZIONALE\n[CULTURA] [TALK]\n18.30 – 20.00\nQuanto e come è cambiata l’esperienza nelle ultime generazioni: tra integrazione e discriminazione\, tra nuove libertà e vecchi stereotipi. Genere\, etnia\, classe sociale e status migratorio si combinano influenzando profondamente le traiettorie esistenziali: le risposte di una prospettiva intersezionale. \nintervengono:\nNadeesha Uyangoda – scrittrice\nAriman Scriba – editor e fondatrice di MUN Magazine\nMaria Catena Mancuso – autrice \nmodera:\nMargherita Maggioni – sociologa \n✴︎\nNadeesha Uyangoda è una scrittrice\, giornalista e curatrice culturale italiana di origine srilankese. Il suo lavoro si concentra sui temi dell’identità\, del razzismo strutturale\, della migrazione\, del femminismo intersezionale e delle rappresentazioni culturali\, con un approccio diretto e politico. \nIl suo lavoro si colloca esplicitamente in una prospettiva critica: mette in discussione il mito della neutralità\, smonta i meccanismi di esclusione del discorso dominante e rivendica \n\n  \n  \n  \n  \n  \n \nAriman Scriba è editor e professionista della comunicazione culturale\, attiva tra editoria indipendente\, musica e progetti sociali. \nIl suo lavoro si concentra sulla costruzione di narrazioni che attraversano i temi dell’identità\, delle seconde generazioni e della salute mentale\, con un’attenzione costante ai linguaggi contemporanei e alle pratiche di rappresentazione. \nScrive principalmente di salute mentale\, seconde generazioni e musica trap\, con un approccio critico e attento al contesto sociale. È fondatrice di Mun Magazine. \n\n  \n  \n  \n  \n \nMaria Catena Mancuso è un’autrice e podcaster italiana. \nHa contribuito a realizzare i podcast S/Confini (Undermedia)\, su migrazione e identità\, e Sulla Razza (Juventus/One Podcast)\, sulla questione razziale in Italia\, finalista agli Italian Podcast Awards 2022 e 2024 e candidato ai Diversity Media Awards 2024. \nI suoi articoli sono apparsi su La Revue\, VICE Italia\, Lay0ut Magazine\, Dinamo Press\, The Submarine e Norient. \n  \n  \n  \n  \n  \n  \n  \n \nArianna Mainardi è ricercatrice in sociologia dei processi culturali e comunicativi all’Università di Bergamo. \nLa sua ricerca intreccia le culture digitali\, i corpi e le relazioni di genere\, i metodi di ricerca qualitativa\, e i movimenti sociali. \nTra le sue pubblicazioni: “Digital Girls. Le ragazze e la ridefinizione dei rapporti di genere online e offline”\, ETS; “Smagliature Digitali. Corpi\, generi\, tecnologie”\, Agenzia X (con Carlotta Cossutta\, Valentina Greco e Stefania Voli). \n  \n  \n  \n  \n \n✴︎\nConsulta il programma completo dal 13 al 18 gennaio \nIngresso gratuito riservato ai soci NAMA.\nSe non hai la tessera\, registrati online: il pre-tesseramento è obbligatorio almeno 24h prima di arrivare. \nDIVENTA SOCIO NAMA
URL:https://nuovoanfiteatromartesana.org/event/talk-un-futuro-intersezionale/
LOCATION:[INSIDE] NAMA – Nuovo Anfiteatro Martesana\, Parco della Martesana\, Milano\, 20127
CATEGORIES:nama-anno01
ATTACH;FMTTYPE=image/png:https://nuovoanfiteatromartesana.org/wp-content/uploads/2026/01/NAMA-1000x1000px-2026-01-10T161728.238.png
END:VEVENT
END:VCALENDAR