BEGIN:VCALENDAR
VERSION:2.0
PRODID:-//NAMA - Nuovo Anfiteatro Martesana - ECPv6.15.12.2//NONSGML v1.0//EN
CALSCALE:GREGORIAN
METHOD:PUBLISH
X-WR-CALNAME:NAMA - Nuovo Anfiteatro Martesana
X-ORIGINAL-URL:https://nuovoanfiteatromartesana.org
X-WR-CALDESC:Eventi per NAMA - Nuovo Anfiteatro Martesana
REFRESH-INTERVAL;VALUE=DURATION:PT1H
X-Robots-Tag:noindex
X-PUBLISHED-TTL:PT1H
BEGIN:VTIMEZONE
TZID:UTC
BEGIN:STANDARD
TZOFFSETFROM:+0000
TZOFFSETTO:+0000
TZNAME:UTC
DTSTART:20240101T000000
END:STANDARD
END:VTIMEZONE
BEGIN:VEVENT
DTSTART;VALUE=DATE:20250623
DTEND;VALUE=DATE:20250630
DTSTAMP:20260421T031035
CREATED:20250617T141135Z
LAST-MODIFIED:20250617T141135Z
UID:7543-1750636800-1751241599@nuovoanfiteatromartesana.org
SUMMARY:PROGRAMMA NAMA SUMMER ARENA – dal 23 al 29 giugno
DESCRIPTION:Tutte le attività open air sono gratuite\, salvo dove indicato il tesseramento; in caso di pioggia gli eventi open air potranno essere spostati negli spazi interni con ingresso riservato ai soci NAMA. Per tutte le attività all’interno di NAMA il pre-tesseramento è sempre obbligatorio 24h prima dell’evento.\nPer informazioni: info@nuovoanfiteatromartesana.org \nDIVENTA SOCIO NAMA
URL:https://nuovoanfiteatromartesana.org/event/programma-nama-summer-arena-dal-23-al-29-giugno/
LOCATION:[OPEN AIR] NAMA – Nuovo Anfiteatro Martesana\, Parco della Martesana\, Milano\, 20127
CATEGORIES:NAMA SUMMER ARENA
ATTACH;FMTTYPE=image/jpeg:https://nuovoanfiteatromartesana.org/wp-content/uploads/2025/06/PROGRAMMA-NSA_Tavola-disegno-1-copia-9-1_11zon-scaled.jpg
END:VEVENT
BEGIN:VEVENT
DTSTART;VALUE=DATE:20250629
DTEND;VALUE=DATE:20250630
DTSTAMP:20260421T031035
CREATED:20250609T193913Z
LAST-MODIFIED:20250610T162743Z
UID:7389-1751155200-1751241599@nuovoanfiteatromartesana.org
SUMMARY:PROGRAMMA NAMA SUMMER ARENA - 29 giugno
DESCRIPTION:NAMA SUMMER ARENA\nDay by Day\nUn mese intero di attività all’aperto nel Parco della Martesana. La NAMA Summer Arena è un’arena estiva gratuita e popolare con una programmazione fitta di eventi gratuiti\, senza biglietti né barriere\, pensata per rendere la cultura un bene comune e accessibile a tutti: oltre 100 appuntamenti tra concerti\, teatro\, cinema all’aperto\, talk\, laboratori\, incontri e momenti di convivialità\, con il coinvolgimento di artisti\, realtà culturali indipendenti e associazioni del territorio. \nConsulta la timetable completa – dal 13 giugno al 13 luglio\nDomenica 29 giugno\nOPEN AIR:\nTutte le attività open air sono gratuite\, salvo dove indicato il tesseramento; in caso di pioggia gli eventi open air potranno essere spostati negli spazi interni con ingresso riservato ai soci NAMA. \n14.00-16.00\nPARCO DELLA MARTESANA\nLABORATORIO PER BAMBINI CON KATAKAMUNA\nNei fine settimana\, i laboratori con Katakamuna costituiranno uno spazio di sperimentazione per bambini di ogni età\, che verranno coinvolti in attività creative attraverso l’uso dell’immaginazione e della fantasia\, ogni volta con supporti diversi. \n15.30-19.00\nPARCO DELLA MARTESANA\nBAND ON STAGE + DJ SET\nPer quattro domeniche consecutive\, la NAMA Summer Arena ospita nel Parco della Martesana il contest dedicato a gruppi di musicisti emergenti\, giovani e giovanissimi. \n18.00-22.00\nPARCO DELLA MARTESANA\nPRESENTAZIONE CON AUTORI TEXAS TRIGGER + DJ SET by MOSAIKO SOUND SYSTEM\nOltreoceano presenta il libro fotografico Texas Trigger\, insieme ai suoi autori Luca Santese e Marco Valli. Attraverso questo volume emergono uno spettro di temi\, dalla diffusione delle armi ai movimenti anti-abortisti\, che discuteremo per far fronte alla domanda: cosa sta succedendo in America oggi? A seguire Dj Set a cura di Mosaiko Sound System con Malaika. \nINSIDE * SOCI NAMA\nPre-tesseramento sempre obbligatorio 24h prima dell’evento \n12.00-24.00\nNAMA NUOVO ANFITEATRO MARTESANA\nBUONA DOMENICA MARKET\nIl Buona Domenica Market si ispira all’atmosfera delle classiche domeniche italiane degli anni ’90 e 2000. Il progetto nasce come vetrina per brand emergenti e giovani creativi\, con l’obiettivo di valorizzare la loro arte\, la sostenibilità\, l’unicità e contrastare il consumismo promosso dal fast fashion \nIngresso gratuito \nSempre attivi:\nTutti i giorni:\nART EXHIBITION A CURA DI ART IS YOUNG \nBAR & FOOD OPEN AIR \nINFO POINT CHILL AREA & PARK \nTutti i sabati:\n14.00-19.00 ATTREZZERIA POP a cura di ConservaMi \nTutte le domeniche:\n16.00-19.00 CICLOFFICINA POP a cura di Ciclofficina Pontegiallo \nOrari NAMA OPEN AIR:\nlunedì 17.00 – 23.00\nmartedì 17.00 – 23.00\nmercoledì 17.00 – 23.00\ngiovedì 17.00 – 23.00\nvenerdì 17.00 – 24.00\nsabato 14.00 – 24.00\ndomenica 14.00 – 23.00 \n  \nPer informazioni: info@nuovoanfiteatromartesana.org \nDIVENTA SOCIO NAMA
URL:https://nuovoanfiteatromartesana.org/event/programma-nama-summer-arena-29-giugno/
LOCATION:[OPEN AIR] NAMA – Nuovo Anfiteatro Martesana\, Parco della Martesana\, Milano\, 20127
CATEGORIES:NAMA SUMMER ARENA
ATTACH;FMTTYPE=image/png:https://nuovoanfiteatromartesana.org/wp-content/uploads/2025/06/800x800px-14.png
END:VEVENT
END:VCALENDAR