BEGIN:VCALENDAR
VERSION:2.0
PRODID:-//NAMA - Nuovo Anfiteatro Martesana - ECPv6.15.12.2//NONSGML v1.0//EN
CALSCALE:GREGORIAN
METHOD:PUBLISH
X-ORIGINAL-URL:https://nuovoanfiteatromartesana.org
X-WR-CALDESC:Eventi per NAMA - Nuovo Anfiteatro Martesana
REFRESH-INTERVAL;VALUE=DURATION:PT1H
X-Robots-Tag:noindex
X-PUBLISHED-TTL:PT1H
BEGIN:VTIMEZONE
TZID:UTC
BEGIN:STANDARD
TZOFFSETFROM:+0000
TZOFFSETTO:+0000
TZNAME:UTC
DTSTART:20240101T000000
END:STANDARD
END:VTIMEZONE
BEGIN:VEVENT
DTSTART;VALUE=DATE:20250616
DTEND;VALUE=DATE:20250623
DTSTAMP:20260421T031327
CREATED:20250617T140347Z
LAST-MODIFIED:20250617T141139Z
UID:7539-1750032000-1750636799@nuovoanfiteatromartesana.org
SUMMARY:PROGRAMMA NAMA SUMMER ARENA – dal 16 al 22 giugno
DESCRIPTION:Tutte le attività open air sono gratuite\, salvo dove indicato il tesseramento; in caso di pioggia gli eventi open air potranno essere spostati negli spazi interni con ingresso riservato ai soci NAMA. Per tutte le attività all’interno di NAMA il pre-tesseramento è sempre obbligatorio 24h prima dell’evento.\nPer informazioni: info@nuovoanfiteatromartesana.org \nDIVENTA SOCIO NAMA
URL:https://nuovoanfiteatromartesana.org/event/programma-nama-summer-arena-dal-16-al-22-giugno/
LOCATION:[OPEN AIR] NAMA – Nuovo Anfiteatro Martesana\, Parco della Martesana\, Milano\, 20127
CATEGORIES:NAMA SUMMER ARENA
ATTACH;FMTTYPE=image/jpeg:https://nuovoanfiteatromartesana.org/wp-content/uploads/2025/06/PROGRAMMA-NSA_Tavola-disegno-1-copia-8-1_11zon-scaled.jpg
END:VEVENT
BEGIN:VEVENT
DTSTART;VALUE=DATE:20250621
DTEND;VALUE=DATE:20250622
DTSTAMP:20260421T031327
CREATED:20250609T182224Z
LAST-MODIFIED:20250615T141436Z
UID:7352-1750464000-1750550399@nuovoanfiteatromartesana.org
SUMMARY:PROGRAMMA NAMA SUMMER ARENA - 21 giugno
DESCRIPTION:NAMA SUMMER ARENA\nDay by Day\nUn mese intero di attività all’aperto nel Parco della Martesana. La NAMA Summer Arena è un’arena estiva gratuita e popolare con una programmazione fitta di eventi gratuiti\, senza biglietti né barriere\, pensata per rendere la cultura un bene comune e accessibile a tutti: oltre 100 appuntamenti tra concerti\, teatro\, cinema all’aperto\, talk\, laboratori\, incontri e momenti di convivialità\, con il coinvolgimento di artisti\, realtà culturali indipendenti e associazioni del territorio. \nConsulta la timetable completa – dal 13 giugno al 13 luglio\nSabato 21 giugno\nOPEN AIR:\nTutte le attività open air sono gratuite\, salvo dove indicato il tesseramento; in caso di pioggia gli eventi open air potranno essere spostati negli spazi interni con ingresso riservato ai soci NAMA. \n15.30-18.30\nPARCO DELLA MARTESANA\nLABORATORIO CON NINA’S DRAG QUEEN\nNina’s Drag Queen terrà un laboratorio su corpo\, genere e identità\, dal titolo “Che cos’è questo queer?”\, con l’obiettivo di ragionare su quale possa essere il valore dell’esperienza queer anche per le persone che non fanno parte della comunità LGBTQIA+. \n16.00-18:30\nPARCO DELLA MARTESANA\nLABORATORI DI CIRCO\n18.30-20.00\nPARCO DELLA MARTESANA\nNOLO YOGA DAY CON SILVIA SPEZIALI\nIn occasione della Giornata Mondiale dello Yoga\, torna l’appuntamento al NOLO Yoga Day\, nella cornice verde dell’Anfiteatro Martesana. Anche quest’anno Silvia vi invita a celebrare la Giornata Internazionale dello Yoga\, che si svolge in contemporanea in tutto il mondo\, per festeggiare il solstizio d’estate con una pratica yoga gratuita. “Yoga & Connessioni – creare comunità attraverso la pratica”: l’edizione 2025 sarà dedicata all’esplorazione del legame tra pratica yogica e relazioni umane. Un’occasione per riscoprire la dimensione collettiva dello yoga attraverso respiro condiviso\, movimento consapevole\, semplici esercizi in coppia (partner yoga) e una meditazione di gruppo. La pratica sarà guidata da Silvia Speziali\, insegnante di yoga\, viaggiatrice e promotrice di benessere olistico\, da anni attiva nella zona di NOLO e nel quartiere Martesana. Evento aperto a tutte e tutti\, anche chi è alla prima esperienza \n“Lo yoga ci insegna a stare con noi stessi\, ma anche con gli altri. In un mondo sempre più iperconnesso ma spesso disconnesso a livello umano\, vogliamo offrire un’esperienza che metta al centro la presenza\, la fiducia e la comunità.” \n20:00\nPARCO DELLA MARTESANA\nSPETTACOLO DI CIRCO CONTEMPORANEO\nASPETTANDO FUORI ASSE FESTIVAL\nÀ MESURE – HANDLE WITH CARE\nDi e con Elena Damasio e Monika Neverauskaite\nAspettando Fuori Asse Festival\, la NAMA Summer Arena ospita uno spettacolo di circo contemporaneo a cura di QuattroX4. \n21:00\nPARCO DELLA MARTESANA\nDJ SET SPACCATACCHI BY NINA’S DRAG QUEEN\nLa versione “pista da ballo” delle Nina’s: pillole del repertorio\, sperimentazioni e musica di ogni gender\, tra revival\, pop e rock\, con un’attenzione speciale a includere sonorità provenienti dalle diverse parti del mondo. \nINSIDE * SOCI NAMA\nPre-tesseramento sempre obbligatorio 24h prima dell’evento \n23.00-till late\nPARCO DELLA MARTESANA\nAFTER PARTY by ACID EXPLOSION\nACID STAGE\nLINE UP: ONLY LIVE SET\n(A-Z)\nACIDR3AM\nINSANE TEKNOLOGY\nLS17\nMOLOTOV\nRNZ_raving\nSTATEK \nTEKNO/HARDTECHNO STAGE LINE UP:\n(A-Z)\nAEGONY\nLOONEYTEK\nMICHELLE VARSALONA\nSCX \nIngresso con contributo di 15€. \nSempre attivi:\nTutti i giorni:\nART EXHIBITION A CURA DI ART IS YOUNG \nBAR & FOOD OPEN AIR \nINFO POINT CHILL AREA & PARK \nTutti i sabati:\n14.00-19.00 ATTREZZERIA POP a cura di ConservaMi \nTutte le domeniche:\n16.00-19.00 CICLOFFICINA POP a cura di Ciclofficina Pontegiallo \nOrari NAMA OPEN AIR:\nlunedì 17.00 – 23.00\nmartedì 17.00 – 23.00\nmercoledì 17.00 – 23.00\ngiovedì 17.00 – 23.00\nvenerdì 17.00 – 24.00\nsabato 14.00 – 24.00\ndomenica 14.00 – 23.00 \n  \nPer informazioni: info@nuovoanfiteatromartesana.org \nDIVENTA SOCIO NAMA
URL:https://nuovoanfiteatromartesana.org/event/programma-nama-summer-arena-21-giugno/
LOCATION:[OPEN AIR] NAMA – Nuovo Anfiteatro Martesana\, Parco della Martesana\, Milano\, 20127
CATEGORIES:NAMA SUMMER ARENA
ATTACH;FMTTYPE=image/png:https://nuovoanfiteatromartesana.org/wp-content/uploads/2025/06/800x800px-6.png
END:VEVENT
BEGIN:VEVENT
DTSTART;VALUE=DATE:20250621
DTEND;VALUE=DATE:20250622
DTSTAMP:20260421T031327
CREATED:20250617T135644Z
LAST-MODIFIED:20250617T141839Z
UID:7536-1750464000-1750550399@nuovoanfiteatromartesana.org
SUMMARY:NOLO YOGA DAY - 21 giugno
DESCRIPTION:NAMA SUMMER ARENA\nDay by Day\nUn mese intero di attività all’aperto nel Parco della Martesana. La NAMA Summer Arena è un’arena estiva gratuita e popolare con una programmazione fitta di eventi gratuiti\, senza biglietti né barriere\, pensata per rendere la cultura un bene comune e accessibile a tutti: oltre 100 appuntamenti tra concerti\, teatro\, cinema all’aperto\, talk\, laboratori\, incontri e momenti di convivialità\, con il coinvolgimento di artisti\, realtà culturali indipendenti e associazioni del territorio. \nConsulta la timetable completa – dal 13 giugno al 13 luglio\nSabato 21 giugno\nOPEN AIR:\nTutte le attività open air sono gratuite\, salvo dove indicato il tesseramento; in caso di pioggia gli eventi open air potranno essere spostati negli spazi interni con ingresso riservato ai soci NAMA. \n18.30-20.00\nPARCO DELLA MARTESANA\nNOLO YOGA DAY CON SILVIA SPEZIALI\nIn occasione della Giornata Mondiale dello Yoga\, torna l’appuntamento al NOLO Yoga Day\, nella cornice verde dell’Anfiteatro Martesana. Anche quest’anno Silvia vi invita a celebrare la Giornata Internazionale dello Yoga\, che si svolge in contemporanea in tutto il mondo\, per festeggiare il solstizio d’estate con una pratica yoga gratuita. “Yoga & Connessioni – creare comunità attraverso la pratica”: l’edizione 2025 sarà dedicata all’esplorazione del legame tra pratica yogica e relazioni umane. Un’occasione per riscoprire la dimensione collettiva dello yoga attraverso respiro condiviso\, movimento consapevole\, semplici esercizi in coppia (partner yoga) e una meditazione di gruppo. La pratica sarà guidata da Silvia Speziali\, insegnante di yoga\, viaggiatrice e promotrice di benessere olistico\, da anni attiva nella zona di NOLO e nel quartiere Martesana. Evento aperto a tutte e tutti\, anche chi è alla prima esperienza \n“Lo yoga ci insegna a stare con noi stessi\, ma anche con gli altri. In un mondo sempre più iperconnesso ma spesso disconnesso a livello umano\, vogliamo offrire un’esperienza che metta al centro la presenza\, la fiducia e la comunità.” \nSempre attivi:\nTutti i giorni:\nART EXHIBITION A CURA DI ART IS YOUNG \nBAR & FOOD OPEN AIR \nINFO POINT CHILL AREA & PARK \nTutti i sabati:\n14.00-19.00 ATTREZZERIA POP a cura di ConservaMi \nTutte le domeniche:\n16.00-19.00 CICLOFFICINA POP a cura di Ciclofficina Pontegiallo \nOrari NAMA OPEN AIR:\nlunedì 17.00 – 23.00\nmartedì 17.00 – 23.00\nmercoledì 17.00 – 23.00\ngiovedì 17.00 – 23.00\nvenerdì 17.00 – 24.00\nsabato 14.00 – 24.00\ndomenica 14.00 – 23.00 \n  \nPer informazioni: info@nuovoanfiteatromartesana.org \nDIVENTA SOCIO NAMA
URL:https://nuovoanfiteatromartesana.org/event/nolo-yoga-day-21-giugno/
LOCATION:[OPEN AIR] NAMA – Nuovo Anfiteatro Martesana\, Parco della Martesana\, Milano\, 20127
CATEGORIES:NAMA SUMMER ARENA
ATTACH;FMTTYPE=image/png:https://nuovoanfiteatromartesana.org/wp-content/uploads/2025/06/NAMA-1000x1000px-33.png
END:VEVENT
BEGIN:VEVENT
DTSTART;VALUE=DATE:20250621
DTEND;VALUE=DATE:20250624
DTSTAMP:20260421T031327
CREATED:20250620T091807Z
LAST-MODIFIED:20250620T092053Z
UID:7563-1750464000-1750723199@nuovoanfiteatromartesana.org
SUMMARY:FUORI PROGRAMMA - NAMA SUMMER ARENA
DESCRIPTION:NAMA SUMMER ARENA\nFuori programma\nAlcuni eventi extra che non troverete nel programma principale! \nOPEN AIR:\nTutte le attività open air sono gratuite\, salvo dove indicato il tesseramento; in caso di pioggia gli eventi open air potranno essere spostati negli spazi interni con ingresso riservato ai soci NAMA. \nSabato 21 giugno\n18:00-21:00\nPARCO DELLA MARTESANA\nREPAIR DAY\nA CURA DI CONSERVAMI\nRidiamo vita agli oggetti dimenticati: ripariamo piccoli elettrodomestici\, biciclette\, mobiletti in legno e rammendiamo vestiti! \n18:30-20:00\nPARCO DELLA MARTESANA\nIL NAVIGLIO PICCOLO E I SUOI BORGHI MILANESI\nLungo il percorso ciclopedonale (e non solo)\, storia e altre storie: chiaccherata del “Custode delle Acque” Edo Bricchetti. A cura di Meravigli Edizioni \nDomenica 22 giugno\n10:00-11:15\nPARCO DELLA MARTESANA\nPAINFREE\nSessioni gratuite di Yoga contro il mal di schiena con Antonella Frascà. L’obiettivo principale del progetto “Painfree” è affrontare il problema globale del mal di schiena\, sensibilizzando sulle sue cause e promuovendo efficaci misure preventive attraverso l’attività fisica e lo sport. Si tratta di semplici esercizi per fare dei break veloci a lavoro e poi faremo una breve sessione di yoga accessibile a tutti (30/40min) focalizzata sul benessere della schiena. Verrano date delle indicazioni per praticare\, a casa\, una serie esercizi di alcuni minuti. \nDomenica 22 giugno\n18.00\nPARCO DELLA MARTESANA\nBOTANICA QUEER\nA cura di Nina’s Drag Queen\nUno spettacolo-passeggiata itinerante che esplora le aree verdi della città. Fra odi alla fisiologia vegetale\, canti per stimolare l’apparato radicale degli alberi\, affondi eco-femministi e coreografie collettive. Gratuito su prenotazione a sorellanza@ninasdragqueens.org \nLunedì 23 giugno\n19:30\nPARCO DELLA MARTESANA\nBOTANICA QUEER\nA cura di Nina’s Drag Queen\nUno spettacolo-passeggiata itinerante che esplora le aree verdi della città. Fra odi alla fisiologia vegetale\, canti per stimolare l’apparato radicale degli alberi\, affondi eco-femministi e coreografie collettive. Gratuito su prenotazione a sorellanza@ninasdragqueens.org \n  \nSempre attivi:\nTutti i giorni:\nART EXHIBITION A CURA DI ART IS YOUNG \nBAR & FOOD OPEN AIR \nINFO POINT CHILL AREA & PARK \nTutti i sabati:\n14.00-19.00 ATTREZZERIA POP a cura di ConservaMi \nTutte le domeniche:\n16.00-19.00 CICLOFFICINA POP a cura di Ciclofficina Pontegiallo \nConsulta la timetable completa – dal 13 giugno al 13 luglio\nOrari NAMA OPEN AIR:\nlunedì 17.00 – 23.00\nmartedì 17.00 – 23.00\nmercoledì 17.00 – 23.00\ngiovedì 17.00 – 23.00\nvenerdì 17.00 – 24.00\nsabato 14.00 – 24.00\ndomenica 14.00 – 23.00 \n  \nPer informazioni: info@nuovoanfiteatromartesana.org \nDIVENTA SOCIO NAMA
URL:https://nuovoanfiteatromartesana.org/event/fuori-programma-nama-summer-arena/
LOCATION:[OPEN AIR] NAMA – Nuovo Anfiteatro Martesana\, Parco della Martesana\, Milano\, 20127
CATEGORIES:NAMA SUMMER ARENA
ATTACH;FMTTYPE=image/jpeg:https://nuovoanfiteatromartesana.org/wp-content/uploads/2025/05/Screenshot-2025-05-07-alle-11.28.52-1_11zon-2.jpg
END:VEVENT
END:VCALENDAR