BEGIN:VCALENDAR
VERSION:2.0
PRODID:-//NAMA - Nuovo Anfiteatro Martesana - ECPv6.15.12.2//NONSGML v1.0//EN
CALSCALE:GREGORIAN
METHOD:PUBLISH
X-WR-CALNAME:NAMA - Nuovo Anfiteatro Martesana
X-ORIGINAL-URL:https://nuovoanfiteatromartesana.org
X-WR-CALDESC:Eventi per NAMA - Nuovo Anfiteatro Martesana
REFRESH-INTERVAL;VALUE=DURATION:PT1H
X-Robots-Tag:noindex
X-PUBLISHED-TTL:PT1H
BEGIN:VTIMEZONE
TZID:UTC
BEGIN:STANDARD
TZOFFSETFROM:+0000
TZOFFSETTO:+0000
TZNAME:UTC
DTSTART:20240101T000000
END:STANDARD
END:VTIMEZONE
BEGIN:VEVENT
DTSTART;VALUE=DATE:20250616
DTEND;VALUE=DATE:20250623
DTSTAMP:20260421T031105
CREATED:20250617T140347Z
LAST-MODIFIED:20250617T141139Z
UID:7539-1750032000-1750636799@nuovoanfiteatromartesana.org
SUMMARY:PROGRAMMA NAMA SUMMER ARENA – dal 16 al 22 giugno
DESCRIPTION:Tutte le attività open air sono gratuite\, salvo dove indicato il tesseramento; in caso di pioggia gli eventi open air potranno essere spostati negli spazi interni con ingresso riservato ai soci NAMA. Per tutte le attività all’interno di NAMA il pre-tesseramento è sempre obbligatorio 24h prima dell’evento.\nPer informazioni: info@nuovoanfiteatromartesana.org \nDIVENTA SOCIO NAMA
URL:https://nuovoanfiteatromartesana.org/event/programma-nama-summer-arena-dal-16-al-22-giugno/
LOCATION:[OPEN AIR] NAMA – Nuovo Anfiteatro Martesana\, Parco della Martesana\, Milano\, 20127
CATEGORIES:NAMA SUMMER ARENA
ATTACH;FMTTYPE=image/jpeg:https://nuovoanfiteatromartesana.org/wp-content/uploads/2025/06/PROGRAMMA-NSA_Tavola-disegno-1-copia-8-1_11zon-scaled.jpg
END:VEVENT
BEGIN:VEVENT
DTSTART;VALUE=DATE:20250618
DTEND;VALUE=DATE:20250619
DTSTAMP:20260421T031105
CREATED:20250609T175243Z
LAST-MODIFIED:20250617T134204Z
UID:7341-1750204800-1750291199@nuovoanfiteatromartesana.org
SUMMARY:PROGRAMMA NAMA SUMMER ARENA - 18 giugno
DESCRIPTION:NAMA SUMMER ARENA\nDay by Day\nUn mese intero di attività all’aperto nel Parco della Martesana. La NAMA Summer Arena è un’arena estiva gratuita e popolare con una programmazione fitta di eventi gratuiti\, senza biglietti né barriere\, pensata per rendere la cultura un bene comune e accessibile a tutti: oltre 100 appuntamenti tra concerti\, teatro\, cinema all’aperto\, talk\, laboratori\, incontri e momenti di convivialità\, con il coinvolgimento di artisti\, realtà culturali indipendenti e associazioni del territorio. \nConsulta la timetable completa – dal 13 giugno al 13 luglio\nMercoledì 18 giugno\nOPEN AIR:\nTutte le attività open air sono gratuite\, salvo dove indicato il tesseramento; in caso di pioggia gli eventi open air potranno essere spostati negli spazi interni con ingresso riservato ai soci NAMA. \n19.00-23.00\nPARCO DELLA MARTESANA\nCINEMA IN ANFITEATRO CON FILMMAKER E FILM TV\nFilmmaker e FilmTV cureranno due serate di cinema alla NAMA Summer Arena\, proponendo una selezione di opere capaci di interrogare il presente e stimolare il dibattito su temi centrali dell’attualità. Un’occasione per coniugare visione critica e partecipazione collettiva attraverso il linguaggio cinematografico. \nore 19.30\nTerra\, diritti\, e libertà\nIncontro con Massimo Amato\, docente di Storia economica all’università\nBocconi\nconduce Paola Piacenza\, giornalista e documentarista \nore 21.30\nProiezione del Film “No Other Land” \n19.15-20.15\nPARCO DELLA MARTESANA\nHATHA YOGA E MEDITAZIONE KUNDALINI CON ROMINA GASPERONI\nOgni mercoledì\, la NAMA Summer Arena accoglie Romina Gasperoni per delle sessioni di Hatha Yoga e meditazione Kundalini\, immersi nel verde del Parco della Martesana. \nLezione riservata ai soci NAMA (10€ singola lezione\, 8€ con abbonamento)\nNAMA BENESSERE Summer edition \nSempre attivi:\nTutti i giorni:\nART EXHIBITION A CURA DI ART IS YOUNG \nBAR & FOOD OPEN AIR \nINFO POINT CHILL AREA & PARK \nTutti i sabati:\n14.00-19.00 ATTREZZERIA POP a cura di ConservaMi \nTutte le domeniche:\n16.00-19.00 CICLOFFICINA POP a cura di Ciclofficina Pontegiallo \nOrari NAMA OPEN AIR:\nlunedì 17.00 – 23.00\nmartedì 17.00 – 23.00\nmercoledì 17.00 – 23.00\ngiovedì 17.00 – 23.00\nvenerdì 17.00 – 24.00\nsabato 14.00 – 24.00\ndomenica 14.00 – 23.00 \n  \nPer informazioni: info@nuovoanfiteatromartesana.org \nDIVENTA SOCIO NAMA
URL:https://nuovoanfiteatromartesana.org/event/programma-nama-summer-arena-18-giugno/
LOCATION:[OPEN AIR] NAMA – Nuovo Anfiteatro Martesana\, Parco della Martesana\, Milano\, 20127
CATEGORIES:NAMA SUMMER ARENA
ATTACH;FMTTYPE=image/png:https://nuovoanfiteatromartesana.org/wp-content/uploads/2025/06/800x800px-3.png
END:VEVENT
END:VCALENDAR