BEGIN:VCALENDAR
VERSION:2.0
PRODID:-//NAMA - Nuovo Anfiteatro Martesana - ECPv6.15.12.2//NONSGML v1.0//EN
CALSCALE:GREGORIAN
METHOD:PUBLISH
X-ORIGINAL-URL:https://nuovoanfiteatromartesana.org
X-WR-CALDESC:Eventi per NAMA - Nuovo Anfiteatro Martesana
REFRESH-INTERVAL;VALUE=DURATION:PT1H
X-Robots-Tag:noindex
X-PUBLISHED-TTL:PT1H
BEGIN:VTIMEZONE
TZID:UTC
BEGIN:STANDARD
TZOFFSETFROM:+0000
TZOFFSETTO:+0000
TZNAME:UTC
DTSTART:20250101T000000
END:STANDARD
END:VTIMEZONE
BEGIN:VEVENT
DTSTART;TZID=UTC:20260118T100000
DTEND;TZID=UTC:20260118T100000
DTSTAMP:20260421T042354
CREATED:20251222T115655Z
LAST-MODIFIED:20260111T145335Z
UID:8793-1768730400-1768730400@nuovoanfiteatromartesana.org
SUMMARY:PROGRAMMA DOMENICA 18 GENNAIO - IMMAGINARE IL FUTURO
DESCRIPTION:Domenica 18 gennaio\nIMMAGINARE IL FUTURO\n [ARTE] [100 IDEE] *\n10:00 – 13:00\nTAVOLO DI CONFRONTO: UNO SPAZIO PER IL FUTURO\nAttività è su prenotazione tramite mail info@nuovoanfiteatromartesana.org\nA cura di Spazio Margine \n* è parte del progetto SPAZIO MARGINE di NAMA – Nuovo Anfiteatro Martesana realizzato grazie al programma 100 IDEE \n  \n[MUSICA] [MARKET] [WORKSHOP]\n11.00 – 16.00\nOPEN DAY GIARDINO NASCOSTO\nMusica\, market\, workshop “Stendipanni” 2.0\, Vin brulè\nIl Giardino Nascosto in via Bertelli 44 è aperto dalle 11 alle 16 per presentare le attività che partiranno in primavera! \nLine up:\nSeelva\nThink’d\nKuze \n  \n[ARTE] [TALK] [100 IDEE] *\n15:00 – 16.30\nIMMAGINARE LO SGUARDO DI UN CENTRO CULTURALE\nCome guardiamo il mondo che ci circonda? Quale ruolo ha l’arte nell’interpretazione della realtà? Un invito a condividere pratiche\, dubbi e prospettive per leggere il mondo con maggiore lucidità. Come lo si fa nei luoghi della cultura? \nA cura di Spazio Margine \nintervengono:\nCecilia Guida – curatrice indipendente\, critica d’arte\, docente di Storia dell’Arte Contemporanea e Ultime Tendenze nelle Arti Visive\nNoemi Tarantini – content creator d’arte\nFrancesca Disconzi – Project manager\, critica e curatrice indipendente. Co-fondatrice di Osservatorio Futura \n* è parte del progetto SPAZIO MARGINE di NAMA – Nuovo Anfiteatro Martesana realizzato grazie al programma 100 IDEE \n  \n[CULTURA] [TALK]\n17.00 – 18.30\nFUTURO E CAMBIAMENTO CLIMATICO\nTra scienza\, politica e immaginario: come il clima sta riscrivendo l’idea stessa di futuro. A che punto siamo del cambiamento climatico? Quali sono le sfide aperte oggi? Uno sguardo sui movimenti e sulle COP. \nintervengono:\nSofia Pasotto – attivista per il clima\nFerdinando Cotugno – giornalista\nFabio Deotto – scrittore e giornalista\nGiovanni Mori – attivista e divulgatore \nmodera:\nSerena Vitucci – attivista \n  \n[COMICITÀ]\n18:30 – 19:30\nZELIG OPEN MIC\nComici in gara e il pubblico voterà il migliore \npresentano:\nGiovanna Donini e Andrea Midena – autori di Zelig \nA cura di Giancarlo Bozzo \n  \n[MUSICA] [TEATRO]\n19.30 – 20.15\nKBB ORCHESTRA: CHE CAXXO STA SUCCEDENDO?\nNelle sabbie mobili un fiore//Nell’ostacolo\, il salto che sorprende. // Trasporta e sconquassa / al suo passaggio tutto cambia. // Tra la folla mi indigno\, cerco e trovo il mio sgomento \nCosa ci ricorderemo di tutto questo? \n  \n[MUSICA]\n20.15 – 21.15\nNOVE (live)\nNOVE è il progetto musicale di cantautorato punk di Marco Manini\, che presenterà il nuovo disco in full band. \nA cura di Chullu Agency \n  \n[MUSICA]\n21.30 – 22.30\nSGA (live)\nSGA o gli SGA sono un duo o un due\, uniscono teatro-canzone postmoderno\, improvvisazione e trallallero. \nA cura di Chullu Agency \n\n[MUSICA]\n22.30 – 24.00\nQUILOMBO TROPICAL (dj set)\nUn viaggio tra i ritmi sudamericani e africani. Sabor y locura\, sin censura. \nA cura di Chullu Agency \n  \n✴︎\nConsulta il programma completo dal 13 al 18 gennaio \nIngresso gratuito riservato ai soci NAMA.\nSe non hai la tessera\, registrati online: il pre-tesseramento è obbligatorio almeno 24h prima di arrivare. \nDIVENTA SOCIO NAMA
URL:https://nuovoanfiteatromartesana.org/event/programma-18-gennaio-nama-anno-01/
LOCATION:[INSIDE] NAMA – Nuovo Anfiteatro Martesana\, Parco della Martesana\, Milano\, 20127
CATEGORIES:nama-anno01
ATTACH;FMTTYPE=image/png:https://nuovoanfiteatromartesana.org/wp-content/uploads/2025/12/NAMA-1000x1000px-2026-01-09T165750.449.png
END:VEVENT
BEGIN:VEVENT
DTSTART;TZID=UTC:20260118T150000
DTEND;TZID=UTC:20260118T150000
DTSTAMP:20260421T042354
CREATED:20260110T155744Z
LAST-MODIFIED:20260113T145312Z
UID:9114-1768748400-1768748400@nuovoanfiteatromartesana.org
SUMMARY:[TALK] IMMAGINARE LO SGUARDO DI UN CENTRO CULTURALE
DESCRIPTION:Domenica 18 gennaio\nIMMAGINARE LO SGUARDO DI UN CENTRO CULTURALE\n[ARTE] [TALK] [100 IDEE] *\n15:00 – 16.30  \nIMMAGINARE LO SGUARDO DI UN CENTRO CULTURALE\nCome guardiamo il mondo che ci circonda? Quale ruolo ha l’arte nell’interpretazione della realtà? Un invito a condividere pratiche\, dubbi e prospettive per leggere il mondo con maggiore lucidità. Come lo si fa nei luoghi della cultura? \nA cura di Spazio Margine \nintervengono:\nCecilia Guida – curatrice indipendente\, critica d’arte\, docente di Storia dell’Arte Contemporanea e Ultime Tendenze nelle Arti Visive.\nNoemi Tarantini – content creator d’arte\nFrancesca Disconzi – Project manager\, critica e curatrice indipendente. Co-fondatrice di Osservatorio Futura \nmodera:\nBeatrice Cevasco – NAMA \n* è parte del progetto SPAZIO MARGINE di NAMA – Nuovo Anfiteatro Martesana realizzato grazie al programma 100 IDEE \n  \n✴︎\n Cecilia Guida\, PhD\, è saggista\, curatrice e docente di ruolo all’Accademia di Belle Arti di Brera\, dove insegna Fenomenologia delle arti contemporanee. \nLa sua ricerca si concentra su arte pubblica\, pratiche partecipative\, pedagogie radicali e trasformazioni dello spazio urbano. \nÈ membro del comitato scientifico e curatrice della sezione Arti Visive della Fondazione Adolfo Pini. Ha diretto e curato programmi di residenza e progetti di arte pubblica\, tra cui UNIDEE–Università delle Idee di Cittadellarte e ArtLine Milano. Ha curato e tradotto l’edizione italiana di Inferni Artificiali di Claire Bishop. La sua pubblicazione più recente è Bright Ecologies. \n  \n  \n  \n  \n  \n  \n \n  \nNoemi Tarantini è laureata in triennale in beni archeologici\, ha proseguito il percorso accademico nell’ambito del management dell’arte e della cultura. È stata coordinatrice regionale di UNESCO Giovani e dal 2020 porta avanti Etantebellecose\, progetto volto a denunciare le disfunzionalità del sistema dell’arte e a valorizzarne le buone pratiche. In seguito ha co-fondato il podcast Le comari dell’arte\, dedicato alla funzione sociale del patrimonio storico-artistico. \nHa esperienza all’interno di istituzioni e organizzazioni culturali\, e cura tuttora la comunicazione digitale di associazioni culturali e aziende\, svolgendo attività di consulenza in ambito social media. \nHa tenuto lezioni in varie università e scuole italiane\, un TEDx nel 2023\, ha collaborato con riviste di settore e di lifestyle ed è intervenuta al Fashion For The Planet Open Parliament\, organizzato da Fondazione Pistoletto e Camera della Moda. È stata inoltre tra le fautrici della protesta contro la mostra genovese su Artemisia Gentileschi. \n  \n  \n  \n  \n  \n  \n  \n  \n Francesca Disconzi\, è una curatrice e critica d’arte indipendente\, laureata in Pedagogia e Didattica dell’Arte e in Economia Politica. \nLa sua ricerca si concentra sui linguaggi dell’arte contemporanea\, sulle dinamiche di produzione culturale e sulle relazioni tra arte e lotta di classe\, con particolare attenzione alle pratiche collettive e sperimentali della curatela. \nNel settembre 2020 co-fonda Osservatorio Futura\, un progetto dedicato alla ricerca\, all’esposizione ed all’archiviazione del contemporaneo. \n  \n  \n  \n  \n \n✴︎ \nConsulta il programma completo dal 13 al 18 gennaio \nIngresso gratuito riservato ai soci NAMA.\nSe non hai la tessera\, registrati online: il pre-tesseramento è obbligatorio almeno 24h prima di arrivare. \nDIVENTA SOCIO NAMA
URL:https://nuovoanfiteatromartesana.org/event/talk-immaginare-lo-sguardo-di-un-centro-culturale/
LOCATION:[INSIDE] NAMA – Nuovo Anfiteatro Martesana\, Parco della Martesana\, Milano\, 20127
CATEGORIES:nama-anno01
ATTACH;FMTTYPE=image/png:https://nuovoanfiteatromartesana.org/wp-content/uploads/2026/01/NAMA-1000x1000px-2026-01-10T165637.013.png
END:VEVENT
BEGIN:VEVENT
DTSTART;TZID=UTC:20260118T170000
DTEND;TZID=UTC:20260118T170000
DTSTAMP:20260421T042354
CREATED:20260110T153759Z
LAST-MODIFIED:20260112T101107Z
UID:9105-1768755600-1768755600@nuovoanfiteatromartesana.org
SUMMARY:[TALK] FUTURO E CAMBIAMENTO CLIMATICO
DESCRIPTION:Domenica 18 gennaio\nFUTURO E CAMBIAMENTO CLIMATICO\n[CULTURA] [TALK]\n17.00 – 18.30\nTra scienza\, politica e immaginario: come il clima sta riscrivendo l’idea stessa di futuro. A che punto siamo del cambiamento climatico? Quali sono le sfide aperte oggi? Uno sguardo sui movimenti e sulle COP. \nintervengono:\nSofia Pasotto – attivista per il clima\nFerdinando Cotugno – giornalista \nFabio Deotto – scrittore e giornalista\nGiovanni Mori – attivista e divulgatore \nmodera:\nSerena Vitucci – attivista \n✴︎\n Sofia Pasotto è attivista per il clima\, divulgatrice e content creator italiana\, classe ’99\, con una formazione in Studi Internazionali all’Università di Trento e un Master in Climate Change alla Copenhagen University. \nAttraverso i suoi canali social\, porta contenuti sulla crisi climatica con linguaggio semplice e diretto\, avvicinando soprattutto le nuove generazioni a temi complessi come politiche climatiche\, sostenibilità e giustizia climatica. \nÈ parte della comunità degli ambassador del European Climate Pact\, dove lavora su clima\, educazione\, comunicazione e politiche di azione climatica a livello europeo. Ha già preso parte a TEDx e a festival nazionali come speaker e conduttrice di progetti legati al clima e alla sostenibilità. \n\n\n  \n  \n Ferdinando Cotugno è giornalista e scrittore italiano specializzato in crisi climatica\, ambiente\, ecologia e politica. Cura per il quotidiano Domani la newsletter e il podcast Areale\, un punto di riferimento per chi segue le trasformazioni climatiche e ambientali. \nHa pubblicato diversi libri tra cui Italian Wood e Primavera ambientale. Nel suo ultimo libro\, “Tempo di ritorno. Una storia di clima e di fantasmi (Guanda\, 2025)”\, racconta la crisi climatica attraverso la storia della sua famiglia e della società italiana\, intrecciando memorie personali e dinamiche ambientali per mostrare come il cambiamento climatico sia già parte del nostro presente. \nÈ anche co-conduttore del podcast Ecotoni\, dedicato alla gestione sostenibile delle foreste e alle dinamiche ecologiche\, e contribuisce regolarmente con articoli e analisi su clima\, sostenibilità e transizione ecologica. \n  \n  \n  \n  \n  \n Fabio Deotto è scrittore e giornalista. Laureato in biotecnologie\, si occupa di crisi climatica\, scienza\, tecnologia e trasformazioni sociali\, collaborando con testate come La Lettura\, Wired\, Esquire e il Tascabile. \nNel suo ultimo libro\, “Come ne usciremo. Una storia del presente (Bompiani)”\, analizza il tempo che stiamo vivendo intrecciando crisi climatica\, tecnologia e immaginario collettivo\, interrogandosi su quali strumenti culturali e politici abbiamo — o ci mancano — per affrontare il futuro prossimo. \n  \n  \n  \n  \n  \n  \n \nGiovanni Mori è ingegnere energetico e ambientale\, attivista per il clima e divulgatore scientifico di Brescia.\nÈ stato portavoce nazionale di Fridays for Future Italia e oggi lavora come consulente sulla transizione ecologica. Si occupa di energia\, decarbonizzazione e politiche climatiche\, portando dati e soluzioni concrete nel dibattito pubblico.\nÈ autore e conduttore dei podcast Emergenza Climattina e News dal Pianeta Terra\, collabora con LifeGate ed è ospite frequente di festival\, rassegne culturali e incontri pubblici. \nPorta in scena anche le conferenze spettacoli Le città Invivibili e Bella l’emergenza climatica ma non ci vivrei in cui racconta storie e soluzioni su città e crisi climatica. \n  \n\n✴︎\nConsulta il programma completo dal 13 al 18 gennaio \nIngresso gratuito riservato ai soci NAMA.\nSe non hai la tessera\, registrati online: il pre-tesseramento è obbligatorio almeno 24h prima di arrivare. \nDIVENTA SOCIO NAMA
URL:https://nuovoanfiteatromartesana.org/event/talk-futuro-e-cambiamento-climatico/
LOCATION:[INSIDE] NAMA – Nuovo Anfiteatro Martesana\, Parco della Martesana\, Milano\, 20127
CATEGORIES:nama-anno01
ATTACH;FMTTYPE=image/png:https://nuovoanfiteatromartesana.org/wp-content/uploads/2026/01/NAMA-1000x1000px-2026-01-12T110822.762.png
END:VEVENT
END:VCALENDAR