BEGIN:VCALENDAR
VERSION:2.0
PRODID:-//NAMA - Nuovo Anfiteatro Martesana - ECPv6.15.12.2//NONSGML v1.0//EN
CALSCALE:GREGORIAN
METHOD:PUBLISH
X-ORIGINAL-URL:https://nuovoanfiteatromartesana.org
X-WR-CALDESC:Eventi per NAMA - Nuovo Anfiteatro Martesana
REFRESH-INTERVAL;VALUE=DURATION:PT1H
X-Robots-Tag:noindex
X-PUBLISHED-TTL:PT1H
BEGIN:VTIMEZONE
TZID:UTC
BEGIN:STANDARD
TZOFFSETFROM:+0000
TZOFFSETTO:+0000
TZNAME:UTC
DTSTART:20250101T000000
END:STANDARD
END:VTIMEZONE
BEGIN:VEVENT
DTSTART;TZID=UTC:20260113T193000
DTEND;TZID=UTC:20260113T193000
DTSTAMP:20260420T115014
CREATED:20260109T122229Z
LAST-MODIFIED:20260109T124703Z
UID:9006-1768332600-1768332600@nuovoanfiteatromartesana.org
SUMMARY:[MUSICA] AGNESE MENGUZZATO (LIVE)
DESCRIPTION:Martedì 13 gennaio\nAGNESE MENGUZZATO (LIVE)\n[MUSICA]\n19.30\nCompositrice e musicista italiana con sede a Berlino\, Agnese Menguzzato ha una formazione in violino e liuto rinascimentale. L’artista fonde tecnologie storiche e contemporanee\, dissolvendo i loro confini spazio-temporali. Attraverso questa interazione\, la sua musica diventa un’aria dedicata all’atemporalità del suono e dei gesti umani. \nIl suo EP solista di debutto Scusa\, pubblicato dall’etichetta berlinese Verlag\, è stato descritto come “un’ode alla gentilezza”. Le sue esibizioni dal vivo sono state presentate in luoghi e festival come il silent green e la Volksbühne di Berlino\, il festival Norberg\, Cripta747 a Torino e la Biennale Musica 2025\, La Stella Dentro a Venezia. \nMenguzzato è la fondatrice dell’ensemble Spydergum e ha collaborato con artisti come Sara Persico\, Paula Ďurinová e Soho Rezanejad. \n✴︎\nConsulta il programma completo dal 13 al 18 gennaio \nIngresso gratuito riservato ai soci NAMA.\nSe non hai la tessera\, registrati online: il pre-tesseramento è obbligatorio almeno 24h prima di arrivare. \nDIVENTA SOCIO NAMA
URL:https://nuovoanfiteatromartesana.org/event/13-gennaio-agnese-menguzzato-live/
LOCATION:[INSIDE] NAMA – Nuovo Anfiteatro Martesana\, Parco della Martesana\, Milano\, 20127
CATEGORIES:nama-anno01
ATTACH;FMTTYPE=image/png:https://nuovoanfiteatromartesana.org/wp-content/uploads/2026/01/NAMA-1000x1000px-2026-01-09T132511.341.png
END:VEVENT
BEGIN:VEVENT
DTSTART;TZID=UTC:20260113T180000
DTEND;TZID=UTC:20260113T180000
DTSTAMP:20260420T115014
CREATED:20260109T130156Z
LAST-MODIFIED:20260109T132102Z
UID:9027-1768327200-1768327200@nuovoanfiteatromartesana.org
SUMMARY:[ARTE] INAUGURAZIONE MADE FROM SCRATCH
DESCRIPTION:Martedì 13 gennaio\nINAUGURAZIONE MADE FROM SCRATCH\n[ARTE] [100 IDEE] *\n18.00\nIl progetto MADE FROM SCRATCH nasce dalla collaborazione con Alessandro Gerull\, giovane artista milanese. Partiamo da ciò che è considerato un rifiuto per generare del valore: artistico\, culturale e sociale. Una risorsa per la comunità\, che da scarto viene trasformata in un punto di riferimento per le comunità che abitano il quartiere. \nA Cura di Alessandro Gerull e IO Multimedia \nGrazie al contributo di 100 Idee e di Comune di Milano Giovani \n* è parte del progetto MADE FROM SCRATCH di Crea Productions realizzato grazie al programma 100 IDEE \nL’installazione è visitabile tutti i giorni fino a domenica 18 gennaio. \n✴︎\nAlessandro Gerull\, 1998\, laureato in Design della comunicazione al Politecnico di Milano nel 2024. Nel 2017 intraprende un percorso artistico autodidatta realizzando la sua prima mostra personale presso la Fondazione Paolina Brugnatelli\, Milano. Lo stesso anno è selezionato tra i venti finalisti del Premio Arte a Palazzo Reale. Durante la pandemia da covid-19 vive a Berlino\, dove crea le sue prime opere scultoree\, che caratterizzeranno la produzione artistica degli anni successivi\, sino ad oggi. Le opere scultoree sono esposte per la prima volta a Milano nel 2021 nella mostra “Garbage Cycle”\, presso la galleria Winarts. Nel 2022 è fra i 20 artisti selezionati per il Premio Cairo\, partecipando con l’opera “Gate” esposta lo stesso anno nella personale “Immobilità sospese” presso la galleria Winarts\, Milano. \n\n\n\n\n✴︎\nConsulta il programma completo dal 13 al 18 gennaio \nIngresso gratuito riservato ai soci NAMA.\nSe non hai la tessera\, registrati online: il pre-tesseramento è obbligatorio almeno 24h prima di arrivare. \nDIVENTA SOCIO NAMA
URL:https://nuovoanfiteatromartesana.org/event/arte-inaugurazione-made-from-scratch/
LOCATION:[INSIDE] NAMA – Nuovo Anfiteatro Martesana\, Parco della Martesana\, Milano\, 20127
CATEGORIES:nama-anno01
ATTACH;FMTTYPE=image/png:https://nuovoanfiteatromartesana.org/wp-content/uploads/2026/01/156.png
END:VEVENT
BEGIN:VEVENT
DTSTART;TZID=UTC:20260113T180000
DTEND;TZID=UTC:20260113T180000
DTSTAMP:20260420T115014
CREATED:20251222T104803Z
LAST-MODIFIED:20260111T145520Z
UID:8778-1768327200-1768327200@nuovoanfiteatromartesana.org
SUMMARY:PROGRAMMA MARTEDÌ 13 GENNAIO - IMMAGINARE IL FUTURO
DESCRIPTION:Martedì 13 gennaio\nIMMAGINARE IL FUTURO\n18.00\nSALUTI ISTITUZIONALI E BRINDISI\nIntervengono: NAMA Nuovo Anfiteatro Martesana\, Simone Locatelli – Presidente Municipio 2\, 100 idee\, Assessorato politiche giovanili del Comune di Milano\, Fondazione di Comunità Milano. \n  \n[ARTE]\n18.00\nINAUGURAZIONE MOSTRA ANNO 01\nLa mostra racconta la nascita e la crescita di NAMA\, dalle prime idee del 2024 fino ai suoi primi dodici mesi di vita. Attraverso fotografie\, video e testi\, il percorso ripercorre le tappe che hanno trasformato l’Anfiteatro Martesana in un centro culturale vivo e aperto alla città. Insieme\, raccontano NAMA come un luogo in continua trasformazione\, dove la cultura diventa esperienza condivisa e dove la storia si scrive ogni giorno\, insieme a chi lo abita. \n  \n[ARTE] [100 IDEE] *\n18.00\nINAUGURAZIONE MADE FROM SCRATCH\nIl progetto MADE FROM SCRATCH nasce dalla collaborazione con Alessandro Gerull\, giovane artista milanese. Partiamo da ciò che è considerato un rifiuto per generare del valore: artistico\, culturale e sociale. Una risorsa per la comunità\, che da scarto viene trasformata in un punto di riferimento per le comunità che abitano il quartiere. \nA Cura di Alessandro Gerull e IO Multimedia \nGrazie al contributo di 100 Idee e di Comune di Milano Giovani \n* è parte del progetto MADE FROM SCRATCH di Crea Productions realizzato grazie al programma 100 IDEE \n  \n[MUSICA]\n19.30\nAGNESE MENGUZZATO (LIVE)\nCompositrice e musicista italiana con sede a Berlino\, Agnese Menguzzato fonde tecnologie storiche e contemporanee\, dissolvendo i confini spazio-temporali. Attraverso questa interazione\, la sua musica diventa un’area dedicata alla temporalità del suono e dei gesti umani. \n  \n[CULTURA] [TALK]\n20.30\nIMMAGINARE IL FUTURO\nCosa facciamo quando immaginiamo il futuro? Quale ruolo ha l’immaginazione nello sviluppo delle società umane? Come possiamo coltivare questa capacità individuale e collettiva? \nsaluti istituzionali con:\nMartina Riva\, Assessore alle Politiche Giovanili\, allo Sport e al Turismo del Comune di Milano \nintervengono:\nPaolo Spinicci – ordinario di Filosofia teoretica all’Università degli Studi di Milano\nBruno Arpaia – scrittore e giornalista \nmodera:\nBianca Bartolomeo – NAMA \n  \n[MUSICA]\n21.00 – 23.00\nDJ SET A SORPRESA\n✴︎\nConsulta il programma completo dal 13 al 18 gennaio \nIngresso gratuito riservato ai soci NAMA.\nSe non hai la tessera\, registrati online: il pre-tesseramento è obbligatorio almeno 24h prima di arrivare. \nDIVENTA SOCIO NAMA
URL:https://nuovoanfiteatromartesana.org/event/programma-13-gennaio-nama-anno-01/
LOCATION:[INSIDE] NAMA – Nuovo Anfiteatro Martesana\, Parco della Martesana\, Milano\, 20127
CATEGORIES:nama-anno01
ATTACH;FMTTYPE=image/png:https://nuovoanfiteatromartesana.org/wp-content/uploads/2025/12/NAMA-1000x1000px-2025-12-22T172144.864.png
END:VEVENT
END:VCALENDAR