BEGIN:VCALENDAR
VERSION:2.0
PRODID:-//NAMA - Nuovo Anfiteatro Martesana - ECPv6.15.12.2//NONSGML v1.0//EN
CALSCALE:GREGORIAN
METHOD:PUBLISH
X-ORIGINAL-URL:https://nuovoanfiteatromartesana.org
X-WR-CALDESC:Eventi per NAMA - Nuovo Anfiteatro Martesana
REFRESH-INTERVAL;VALUE=DURATION:PT1H
X-Robots-Tag:noindex
X-PUBLISHED-TTL:PT1H
BEGIN:VTIMEZONE
TZID:UTC
BEGIN:STANDARD
TZOFFSETFROM:+0000
TZOFFSETTO:+0000
TZNAME:UTC
DTSTART:20250101T000000
END:STANDARD
END:VTIMEZONE
BEGIN:VEVENT
DTSTART;TZID=UTC:20260114T190000
DTEND;TZID=UTC:20260114T190000
DTSTAMP:20260420T162046
CREATED:20251222T113912Z
LAST-MODIFIED:20260111T145448Z
UID:8783-1768417200-1768417200@nuovoanfiteatromartesana.org
SUMMARY:PROGRAMMA MERCOLEDÌ 14 GENNAIO - IMMAGINARE IL FUTURO
DESCRIPTION:Mercoledì 14 gennaio\nIMMAGINARE IL FUTURO\n[CINEMA] [TALK] [100 IDEE] *\n19.00 – 23.00\nIL CINEMA È UN’INVENZIONE SENZA FUTURO?\na cura di Film Tv\, Filmmaker e NeNet\n19.00 – 19.30\nProiezione\nTHE PØRNØGRAPHƏR di HARIEL (Italia\, 11′\, PRIMA MILANESE)\nin sala i registi Pietro Lafiandra\, Andrea Rossini e Flavio Pizzorno \n  \n19.30 – 20.30\nTalk\nTHIRD LIFE? AI\, VR\, MACHINIMA & CO: IL CINEMA (TRAPASSATO) PROSSIMO \nintervengono:\nMargherita Fontana – EXT Centro di Ricerca Coordinata sulle Realtà Estese\, Università degli Studi di Milano “La Statale”\nValeria Polidoro – Filmmaker Expanded\, Docs Barcelona\nGiovanni Abitante – regista\nFrancesco Clerici – regista\nLorenzo Donghi – Università di Pavia \nintroducono e moderano:\nMatteo Marelli – Film Tv\, Filmmaker Festival\,\nLuca Mosso – Filmmaker Festival\,\nGiulio Sangiorgio – Film Tv\, Filmmaker Festival \n  \n21.00\nProiezione\nShould Virtual Petz Die? di Carlo Galbiati (Italia\, 12′\, PRIMA MILANESE)\nin sala il regista Carlo Galbiati \n  \n21.15\nProiezione\nHarmonie di Bertrand Dezoteux (Francia\, 74′\, PRIMA MILANESE) \n* è parte del progetto CINEMA FUTURO di NeNet realizzato grazie al programma 100 IDEE \n✴︎\nConsulta il programma completo dal 13 al 18 gennaio \nIngresso gratuito riservato ai soci NAMA.\nSe non hai la tessera\, registrati online: il pre-tesseramento è obbligatorio almeno 24h prima di arrivare. \nDIVENTA SOCIO NAMA
URL:https://nuovoanfiteatromartesana.org/event/programma-14-gennaio-nama-anno-01/
LOCATION:[INSIDE] NAMA – Nuovo Anfiteatro Martesana\, Parco della Martesana\, Milano\, 20127
CATEGORIES:nama-anno01
ATTACH;FMTTYPE=image/png:https://nuovoanfiteatromartesana.org/wp-content/uploads/2025/12/NAMA-1000x1000px-2026-01-09T165614.793.png
END:VEVENT
END:VCALENDAR