BEGIN:VCALENDAR
VERSION:2.0
PRODID:-//NAMA - Nuovo Anfiteatro Martesana - ECPv6.15.12.2//NONSGML v1.0//EN
CALSCALE:GREGORIAN
METHOD:PUBLISH
X-ORIGINAL-URL:https://nuovoanfiteatromartesana.org
X-WR-CALDESC:Eventi per NAMA - Nuovo Anfiteatro Martesana
REFRESH-INTERVAL;VALUE=DURATION:PT1H
X-Robots-Tag:noindex
X-PUBLISHED-TTL:PT1H
BEGIN:VTIMEZONE
TZID:UTC
BEGIN:STANDARD
TZOFFSETFROM:+0000
TZOFFSETTO:+0000
TZNAME:UTC
DTSTART:20240101T000000
END:STANDARD
END:VTIMEZONE
BEGIN:VEVENT
DTSTART;TZID=UTC:20251026T140000
DTEND;TZID=UTC:20251026T140000
DTSTAMP:20260420T213136
CREATED:20250929T153017Z
LAST-MODIFIED:20250929T153017Z
UID:7842-1761487200-1761487200@nuovoanfiteatromartesana.org
SUMMARY:DOMENICA IN GIARDINO
DESCRIPTION:Il Giardino Nascosto in via Bertelli 44\nApertura settimanale\nTorna a fiorire il giardino condiviso lungo il Naviglio Piccolo: tutte le domeniche il cancello è aperto per attività di cura del verde\, laboratori\, mercatini e suoni condivisi. \ndalle h 14:00 alle 19:00\n✴︎\nIngresso libero per i soci NAMA\nSe non hai la tessera\, registrati online: il pre-tesseramento è obbligatorio almeno 24h prima di arrivare. \nDIVENTA SOCIO NAMA
URL:https://nuovoanfiteatromartesana.org/event/domenica-in-giardino-4/
LOCATION:Il Giardino Nascosto\, via Bertelli 44\, Via Bertelli 44\, Milano\, 20127
CATEGORIES:IL GIARDINO NASCOSTO
ATTACH;FMTTYPE=image/jpeg:https://nuovoanfiteatromartesana.org/wp-content/uploads/2025/09/NAMA-1000x1000px-51_11zon.jpg
END:VEVENT
END:VCALENDAR