BEGIN:VCALENDAR
VERSION:2.0
PRODID:-//NAMA - Nuovo Anfiteatro Martesana - ECPv6.15.12.2//NONSGML v1.0//EN
CALSCALE:GREGORIAN
METHOD:PUBLISH
X-ORIGINAL-URL:https://nuovoanfiteatromartesana.org
X-WR-CALDESC:Eventi per NAMA - Nuovo Anfiteatro Martesana
REFRESH-INTERVAL;VALUE=DURATION:PT1H
X-Robots-Tag:noindex
X-PUBLISHED-TTL:PT1H
BEGIN:VTIMEZONE
TZID:UTC
BEGIN:STANDARD
TZOFFSETFROM:+0000
TZOFFSETTO:+0000
TZNAME:UTC
DTSTART:20250101T000000
END:STANDARD
END:VTIMEZONE
BEGIN:VEVENT
DTSTART;TZID=UTC:20260322T110000
DTEND;TZID=UTC:20260322T110000
DTSTAMP:20260420T210952
CREATED:20260309T200524Z
LAST-MODIFIED:20260317T121249Z
UID:9523-1774177200-1774177200@nuovoanfiteatromartesana.org
SUMMARY:DOMENICA IN GIARDINO
DESCRIPTION:Il Giardino Nascosto in via Bertelli 44\nApertura settimanale\nTorna a fiorire il giardino condiviso lungo il Naviglio Piccolo: tutte le domeniche il cancello è aperto per attività di cura del verde\, laboratori\, mercatini e suoni condivisi. \nDomenica 22 marzo 2026\n11:00 – 19:00\nFinalmente riapre il Giardino Nascosto\, l’area verde di circa 600 mq tra via Luigi Bertelli e via Stamira D’Ancona\, lungo la ciclabile della Martesana. La prima domenica inaugura la nuova stagione con tante attività per tornare a vivere questo spazio come luogo di incontro e socialità. \nIl giardino sarà poi aperto tutte le domeniche\, con nuove attività e momenti condivisi. \nDalle 11:00 ci ritroviamo in giardino per condividere tempo\, pratiche e incontri. \nMusica\nAttar\nSeelva\nBlink\nTamerici\nGrievance \nMercatino\nIl Miele del Carletto\nPsy Native Lab\nMartina Tiozzo\nLe Cosmiche \nLaboratori\n12–13\nCerchio di Primavera\nby Le Cosmiche e Tripsi \n15–17\nLaboratorio collettivo di poesia guidata\nby Fibre Nervose \nExpo\nby Fibre Nervose \n→ Via Luigi Bertelli 44\, Milano\nSCOPRI IL PROGETTO\n✴︎\nIngresso libero per i soci NAMA\nSe non hai la tessera\, registrati online: il pre-tesseramento è obbligatorio almeno 24h prima di arrivare. \nDIVENTA SOCIO NAMA
URL:https://nuovoanfiteatromartesana.org/event/domenica-in-giardino-5/
LOCATION:Il Giardino Nascosto\, via Bertelli 44\, Via Bertelli 44\, Milano\, 20127
CATEGORIES:IL GIARDINO NASCOSTO
ATTACH;FMTTYPE=image/png:https://nuovoanfiteatromartesana.org/wp-content/uploads/2026/03/211.png
END:VEVENT
BEGIN:VEVENT
DTSTART;TZID=UTC:20260329T110000
DTEND;TZID=UTC:20260329T110000
DTSTAMP:20260420T210952
CREATED:20260324T160316Z
LAST-MODIFIED:20260324T160316Z
UID:9597-1774782000-1774782000@nuovoanfiteatromartesana.org
SUMMARY:DOMENICA IN GIARDINO
DESCRIPTION:Il Giardino Nascosto in via Bertelli 44\nApertura settimanale\nTorna a fiorire il giardino condiviso lungo il Naviglio Piccolo: tutte le domeniche il cancello è aperto per attività di cura del verde\, laboratori\, mercatini e suoni condivisi. \nDomenica 29 marzo 2026\n11:00 – 19:00\nÈ aperto tutte le domeniche il Giardino Nascosto\, l’area verde di circa 600 mq tra via Luigi Bertelli e via Stamira D’Ancona\, lungo la ciclabile della Martesana. Tante attività e momenti condivisi: tempo\, pratiche e incontri! \nSegui la pagina Instagram del Giardino Nascosto per tutti gli aggiornamenti. \n→ Via Luigi Bertelli 44\, Milano\nSCOPRI IL PROGETTO\n✴︎\nIngresso libero per i soci NAMA\nSe non hai la tessera\, registrati online: il pre-tesseramento è obbligatorio almeno 24h prima di arrivare. \nDIVENTA SOCIO NAMA
URL:https://nuovoanfiteatromartesana.org/event/domenica-in-giardino-6/
LOCATION:Il Giardino Nascosto\, via Bertelli 44\, Via Bertelli 44\, Milano\, 20127
CATEGORIES:IL GIARDINO NASCOSTO
ATTACH;FMTTYPE=image/png:https://nuovoanfiteatromartesana.org/wp-content/uploads/2026/03/213.png
END:VEVENT
BEGIN:VEVENT
DTSTART;TZID=UTC:20260412T110000
DTEND;TZID=UTC:20260412T110000
DTSTAMP:20260420T210952
CREATED:20260330T100244Z
LAST-MODIFIED:20260330T100244Z
UID:9625-1775991600-1775991600@nuovoanfiteatromartesana.org
SUMMARY:DOMENICA IN GIARDINO
DESCRIPTION:Il Giardino Nascosto in via Bertelli 44\nApertura settimanale\nTorna a fiorire il giardino condiviso lungo il Naviglio Piccolo: tutte le domeniche il cancello è aperto per attività di cura del verde\, laboratori\, mercatini e suoni condivisi. \nDomenica 12 aprile 2026\n11:00 – 19:00\nÈ aperto tutte le domeniche il Giardino Nascosto\, l’area verde di circa 600 mq tra via Luigi Bertelli e via Stamira D’Ancona\, lungo la ciclabile della Martesana. Tante attività e momenti condivisi: tempo\, pratiche e incontri! \nSegui la pagina Instagram del Giardino Nascosto per tutti gli aggiornamenti. \n→ Via Luigi Bertelli 44\, Milano\nSCOPRI IL PROGETTO\n✴︎\nIngresso libero per i soci NAMA\nSe non hai la tessera\, registrati online: il pre-tesseramento è obbligatorio almeno 24h prima di arrivare. \nDIVENTA SOCIO NAMA
URL:https://nuovoanfiteatromartesana.org/event/domenica-in-giardino-7/
LOCATION:Il Giardino Nascosto\, via Bertelli 44\, Via Bertelli 44\, Milano\, 20127
CATEGORIES:IL GIARDINO NASCOSTO
ATTACH;FMTTYPE=image/png:https://nuovoanfiteatromartesana.org/wp-content/uploads/2026/03/213.png
END:VEVENT
BEGIN:VEVENT
DTSTART;TZID=UTC:20260419T110000
DTEND;TZID=UTC:20260419T110000
DTSTAMP:20260420T210952
CREATED:20260330T100357Z
LAST-MODIFIED:20260330T100733Z
UID:9629-1776596400-1776596400@nuovoanfiteatromartesana.org
SUMMARY:DOMENICA IN GIARDINO
DESCRIPTION:Il Giardino Nascosto in via Bertelli 44\nApertura settimanale\nTorna a fiorire il giardino condiviso lungo il Naviglio Piccolo: tutte le domeniche il cancello è aperto per attività di cura del verde\, laboratori\, mercatini e suoni condivisi. \nDomenica 19 aprile 2026\n11:00 – 19:00\nÈ aperto tutte le domeniche il Giardino Nascosto\, l’area verde di circa 600 mq tra via Luigi Bertelli e via Stamira D’Ancona\, lungo la ciclabile della Martesana. Tante attività e momenti condivisi: tempo\, pratiche e incontri! \nSegui la pagina Instagram del Giardino Nascosto per tutti gli aggiornamenti. \n→ Via Luigi Bertelli 44\, Milano\nSCOPRI IL PROGETTO\n✴︎\nIngresso libero per i soci NAMA\nSe non hai la tessera\, registrati online: il pre-tesseramento è obbligatorio almeno 24h prima di arrivare. \nDIVENTA SOCIO NAMA
URL:https://nuovoanfiteatromartesana.org/event/domenica-in-giardino-8/
LOCATION:Il Giardino Nascosto\, via Bertelli 44\, Via Bertelli 44\, Milano\, 20127
CATEGORIES:IL GIARDINO NASCOSTO
ATTACH;FMTTYPE=image/png:https://nuovoanfiteatromartesana.org/wp-content/uploads/2026/03/213.png
END:VEVENT
BEGIN:VEVENT
DTSTART;TZID=UTC:20260426T110000
DTEND;TZID=UTC:20260426T110000
DTSTAMP:20260420T210952
CREATED:20260330T100713Z
LAST-MODIFIED:20260330T100713Z
UID:9633-1777201200-1777201200@nuovoanfiteatromartesana.org
SUMMARY:DOMENICA IN GIARDINO
DESCRIPTION:Il Giardino Nascosto in via Bertelli 44\nApertura settimanale\nTorna a fiorire il giardino condiviso lungo il Naviglio Piccolo: tutte le domeniche il cancello è aperto per attività di cura del verde\, laboratori\, mercatini e suoni condivisi. \nDomenica 26 aprile 2026\n11:00 – 19:00\nÈ aperto tutte le domeniche il Giardino Nascosto\, l’area verde di circa 600 mq tra via Luigi Bertelli e via Stamira D’Ancona\, lungo la ciclabile della Martesana. Tante attività e momenti condivisi: tempo\, pratiche e incontri! \nSegui la pagina Instagram del Giardino Nascosto per tutti gli aggiornamenti. \n→ Via Luigi Bertelli 44\, Milano\nSCOPRI IL PROGETTO\n✴︎\nIngresso libero per i soci NAMA\nSe non hai la tessera\, registrati online: il pre-tesseramento è obbligatorio almeno 24h prima di arrivare. \nDIVENTA SOCIO NAMA
URL:https://nuovoanfiteatromartesana.org/event/domenica-in-giardino-9/
LOCATION:Il Giardino Nascosto\, via Bertelli 44\, Via Bertelli 44\, Milano\, 20127
CATEGORIES:IL GIARDINO NASCOSTO
ATTACH;FMTTYPE=image/png:https://nuovoanfiteatromartesana.org/wp-content/uploads/2026/03/213.png
END:VEVENT
END:VCALENDAR