BEGIN:VCALENDAR
VERSION:2.0
PRODID:-//NAMA - Nuovo Anfiteatro Martesana - ECPv6.15.12.2//NONSGML v1.0//EN
CALSCALE:GREGORIAN
METHOD:PUBLISH
X-WR-CALNAME:NAMA - Nuovo Anfiteatro Martesana
X-ORIGINAL-URL:https://nuovoanfiteatromartesana.org
X-WR-CALDESC:Eventi per NAMA - Nuovo Anfiteatro Martesana
REFRESH-INTERVAL;VALUE=DURATION:PT1H
X-Robots-Tag:noindex
X-PUBLISHED-TTL:PT1H
BEGIN:VTIMEZONE
TZID:UTC
BEGIN:STANDARD
TZOFFSETFROM:+0000
TZOFFSETTO:+0000
TZNAME:UTC
DTSTART:20240101T000000
END:STANDARD
END:VTIMEZONE
BEGIN:VEVENT
DTSTART;TZID=UTC:20251005T140000
DTEND;TZID=UTC:20251005T140000
DTSTAMP:20260420T194039
CREATED:20250929T152655Z
LAST-MODIFIED:20250929T152655Z
UID:7831-1759672800-1759672800@nuovoanfiteatromartesana.org
SUMMARY:DOMENICA IN GIARDINO
DESCRIPTION:Il Giardino Nascosto in via Bertelli 44\nApertura settimanale\nTorna a fiorire il giardino condiviso lungo il Naviglio Piccolo: tutte le domeniche il cancello è aperto per attività di cura del verde\, laboratori\, mercatini e suoni condivisi. \ndalle h 14:00 alle 19:00\n✴︎\nIngresso libero per i soci NAMA\nSe non hai la tessera\, registrati online: il pre-tesseramento è obbligatorio almeno 24h prima di arrivare. \nDIVENTA SOCIO NAMA
URL:https://nuovoanfiteatromartesana.org/event/domenica-in-giardino-2/
LOCATION:Il Giardino Nascosto\, via Bertelli 44\, Via Bertelli 44\, Milano\, 20127
CATEGORIES:IL GIARDINO NASCOSTO
ATTACH;FMTTYPE=image/jpeg:https://nuovoanfiteatromartesana.org/wp-content/uploads/2025/09/NAMA-1000x1000px-51_11zon.jpg
END:VEVENT
BEGIN:VEVENT
DTSTART;TZID=UTC:20251012T140000
DTEND;TZID=UTC:20251012T140000
DTSTAMP:20260420T194039
CREATED:20250929T152304Z
LAST-MODIFIED:20250929T152553Z
UID:7826-1760277600-1760277600@nuovoanfiteatromartesana.org
SUMMARY:DOMENICA IN GIARDINO
DESCRIPTION:Il Giardino Nascosto in via Bertelli 44\nApertura settimanale\nTorna a fiorire il giardino condiviso lungo il Naviglio Piccolo: tutte le domeniche il cancello è aperto per attività di cura del verde\, laboratori\, mercatini e suoni condivisi. \ndalle h 14:00 alle 19:00\n✴︎\nIngresso libero per i soci NAMA\nSe non hai la tessera\, registrati online: il pre-tesseramento è obbligatorio almeno 24h prima di arrivare. \nDIVENTA SOCIO NAMA
URL:https://nuovoanfiteatromartesana.org/event/domenica-in-giardino/
LOCATION:Il Giardino Nascosto\, via Bertelli 44\, Via Bertelli 44\, Milano\, 20127
CATEGORIES:IL GIARDINO NASCOSTO
ATTACH;FMTTYPE=image/jpeg:https://nuovoanfiteatromartesana.org/wp-content/uploads/2025/09/NAMA-1000x1000px-51_11zon.jpg
END:VEVENT
BEGIN:VEVENT
DTSTART;TZID=UTC:20251013T200000
DTEND;TZID=UTC:20251013T200000
DTSTAMP:20260420T194039
CREATED:20251008T103415Z
LAST-MODIFIED:20251009T111750Z
UID:7882-1760385600-1760385600@nuovoanfiteatromartesana.org
SUMMARY:WORKSHOP RIPARAZIONE BICICLETTE
DESCRIPTION:Lunedì 13 e 20 ottobre\n10 e 24 novembre\n15 dicembre\nLaboratori base di ciclomeccanica\na cura di Ciclofficina Pontegiallo\nLaboratori base di ciclomeccanica per riconoscere e risolvere i più comuni guasti della bicicletta e per imparare a manutenerla in autonomia. \ndalle h 20:00 alle 22:00\nProgramma:\nLunedì 13 ottobre\nriparazione CAMERE D’ARIA – Prevenzione e toppatura dei fori \nLunedì 20 ottobre\ntensionatura RAGGI – Rimpiazzo dei raggi rotti; deformazione del cerchio; utilizzo del centraruote \nLunedì 10 novembre\nsostituzione CAVI & pastiglie FRENI meccanici In diverse tipologie di sistemi frenanti \nLunedì 24 novembre\nregolazione CAMBIO – Controllo deragliatore e registrazione dei rapporti \nLunedì 15 dicembre\ns/montaggio CATENA – Smagliatura\, pulizia e posizionamento della trasmissione \n✴︎\nAttività riservata ai soci NAMA con contributo di 10€ a laboratorio per un massimo di 10 partecipanti. Iscrizione obbligatoria alla mail officine@nuovoanfiteatromartesana.org (specificare in oggetto “Ciclofficina Pontegiallo\, prenotazione workshop”)\nSe non hai la tessera\, registrati online: il pre-tesseramento è obbligatorio almeno 24h prima di arrivare. \nDIVENTA SOCIO NAMA
URL:https://nuovoanfiteatromartesana.org/event/workshop-riparazione-biciclette/
LOCATION:[INSIDE] NAMA – Nuovo Anfiteatro Martesana\, Parco della Martesana\, Milano\, 20127
CATEGORIES:IL GIARDINO NASCOSTO
ATTACH;FMTTYPE=image/png:https://nuovoanfiteatromartesana.org/wp-content/uploads/2025/10/NAMA-1000x1000px-53.png
END:VEVENT
BEGIN:VEVENT
DTSTART;TZID=UTC:20251019T140000
DTEND;TZID=UTC:20251019T140000
DTSTAMP:20260420T194039
CREATED:20250929T152833Z
LAST-MODIFIED:20250929T152833Z
UID:7837-1760882400-1760882400@nuovoanfiteatromartesana.org
SUMMARY:DOMENICA IN GIARDINO
DESCRIPTION:Il Giardino Nascosto in via Bertelli 44\nApertura settimanale\nTorna a fiorire il giardino condiviso lungo il Naviglio Piccolo: tutte le domeniche il cancello è aperto per attività di cura del verde\, laboratori\, mercatini e suoni condivisi. \ndalle h 14:00 alle 19:00\n✴︎\nIngresso libero per i soci NAMA\nSe non hai la tessera\, registrati online: il pre-tesseramento è obbligatorio almeno 24h prima di arrivare. \nDIVENTA SOCIO NAMA
URL:https://nuovoanfiteatromartesana.org/event/domenica-in-giardino-3/
LOCATION:Il Giardino Nascosto\, via Bertelli 44\, Via Bertelli 44\, Milano\, 20127
CATEGORIES:IL GIARDINO NASCOSTO
ATTACH;FMTTYPE=image/jpeg:https://nuovoanfiteatromartesana.org/wp-content/uploads/2025/09/NAMA-1000x1000px-51_11zon.jpg
END:VEVENT
BEGIN:VEVENT
DTSTART;TZID=UTC:20251020T200000
DTEND;TZID=UTC:20251020T200000
DTSTAMP:20260420T194039
CREATED:20251010T100202Z
LAST-MODIFIED:20251010T100202Z
UID:7909-1760990400-1760990400@nuovoanfiteatromartesana.org
SUMMARY:WORKSHOP RIPARAZIONE BICICLETTE
DESCRIPTION:Lunedì 13 e 20 ottobre\n10 e 24 novembre\n15 dicembre\nLaboratori base di ciclomeccanica\na cura di Ciclofficina Pontegiallo\nLaboratori base di ciclomeccanica per riconoscere e risolvere i più comuni guasti della bicicletta e per imparare a manutenerla in autonomia. \ndalle h 20:00 alle 22:00\nProgramma:\nLunedì 13 ottobre\nriparazione CAMERE D’ARIA – Prevenzione e toppatura dei fori \nLunedì 20 ottobre\ntensionatura RAGGI – Rimpiazzo dei raggi rotti; deformazione del cerchio; utilizzo del centraruote \nLunedì 10 novembre\nsostituzione CAVI & pastiglie FRENI meccanici In diverse tipologie di sistemi frenanti \nLunedì 24 novembre\nregolazione CAMBIO – Controllo deragliatore e registrazione dei rapporti \nLunedì 15 dicembre\ns/montaggio CATENA – Smagliatura\, pulizia e posizionamento della trasmissione \n✴︎\nAttività riservata ai soci NAMA con contributo di 10€ a laboratorio per un massimo di 10 partecipanti. Iscrizione obbligatoria alla mail officine@nuovoanfiteatromartesana.org (specificare in oggetto “Ciclofficina Pontegiallo\, prenotazione workshop”)\nSe non hai la tessera\, registrati online: il pre-tesseramento è obbligatorio almeno 24h prima di arrivare. \nDIVENTA SOCIO NAMA
URL:https://nuovoanfiteatromartesana.org/event/workshop-riparazione-biciclette-2/
LOCATION:[INSIDE] NAMA – Nuovo Anfiteatro Martesana\, Parco della Martesana\, Milano\, 20127
CATEGORIES:IL GIARDINO NASCOSTO
ATTACH;FMTTYPE=image/png:https://nuovoanfiteatromartesana.org/wp-content/uploads/2025/10/NAMA-1000x1000px-53.png
END:VEVENT
BEGIN:VEVENT
DTSTART;TZID=UTC:20251026T140000
DTEND;TZID=UTC:20251026T140000
DTSTAMP:20260420T194039
CREATED:20250929T153017Z
LAST-MODIFIED:20250929T153017Z
UID:7842-1761487200-1761487200@nuovoanfiteatromartesana.org
SUMMARY:DOMENICA IN GIARDINO
DESCRIPTION:Il Giardino Nascosto in via Bertelli 44\nApertura settimanale\nTorna a fiorire il giardino condiviso lungo il Naviglio Piccolo: tutte le domeniche il cancello è aperto per attività di cura del verde\, laboratori\, mercatini e suoni condivisi. \ndalle h 14:00 alle 19:00\n✴︎\nIngresso libero per i soci NAMA\nSe non hai la tessera\, registrati online: il pre-tesseramento è obbligatorio almeno 24h prima di arrivare. \nDIVENTA SOCIO NAMA
URL:https://nuovoanfiteatromartesana.org/event/domenica-in-giardino-4/
LOCATION:Il Giardino Nascosto\, via Bertelli 44\, Via Bertelli 44\, Milano\, 20127
CATEGORIES:IL GIARDINO NASCOSTO
ATTACH;FMTTYPE=image/jpeg:https://nuovoanfiteatromartesana.org/wp-content/uploads/2025/09/NAMA-1000x1000px-51_11zon.jpg
END:VEVENT
END:VCALENDAR